BEGIN:VCALENDAR
VERSION:2.0
PRODID:-//Huntsville &amp; Lake of Bays Chamber of Commerce - ECPv6.9.1//NONSGML v1.0//EN
CALSCALE:GREGORIAN
METHOD:PUBLISH
X-WR-CALNAME:Huntsville &amp; Lake of Bays Chamber of Commerce
X-ORIGINAL-URL:https://huntsvillelakeofbays.on.ca
X-WR-CALDESC:Events for Huntsville &amp; Lake of Bays Chamber of Commerce
REFRESH-INTERVAL;VALUE=DURATION:PT1H
X-Robots-Tag:noindex
X-PUBLISHED-TTL:PT1H
BEGIN:VTIMEZONE
TZID:America/Toronto
BEGIN:DAYLIGHT
TZOFFSETFROM:-0500
TZOFFSETTO:-0400
TZNAME:EDT
DTSTART:20240310T070000
END:DAYLIGHT
BEGIN:STANDARD
TZOFFSETFROM:-0400
TZOFFSETTO:-0500
TZNAME:EST
DTSTART:20241103T060000
END:STANDARD
END:VTIMEZONE
BEGIN:VEVENT
DTSTART;VALUE=DATE:20241025
DTEND;VALUE=DATE:20241027
DTSTAMP:20260421T024342
CREATED:20241008T191654Z
LAST-MODIFIED:20241008T191654Z
UID:10001923-1729814400-1729987199@huntsvillelakeofbays.on.ca
SUMMARY:Muskoka Oktoberfest
DESCRIPTION:Oktoberfest Muskoka is a music\, culinary and beer festival that take places each October in participating breweries and restaurants across Bracebridge\, Gravenhurst\, Huntsville\, Lake of Bays\, Muskoka Lakes and Georgian Bay. \nBreweries provide tours\, partner with local chefs\, retail vendors\, food trucks etc. to pair their beer often with locally sourced products\, ingredients and menus. \nThroughout the festival\, restaurants provide traditional Oktoberfest features such as Roast Chicken\, Sausages\, Pretzels\, Dumplings\, Potato Pancakes\, Sauerkraut\, Spätzle etc. Chefs and eateries will be encouraged to put a Muskoka ‘spin’ on the dishes incorporating locally sourced ingredients such as cranberries\, maple\, and shiitake mushrooms. \n​Each night\, musicians and entertainers perform in participating restaurants and breweries as an enhancement and attraction to these venues. \n​Oktoberfest Muskoka is a collaborative Muskoka-wide event organized by the Bracebridge\, Gravenhurst\, Huntsville/Lake of Bays\, Muskoka Lakes and SEGBAY Chambers of Commerce.
URL:https://huntsvillelakeofbays.on.ca/events/muskoka-oktoberfest/
LOCATION:Muskoka Wide\, 37 Main Street East\, Huntsville\, Ontario\, P1H 1A1\, Canada
CATEGORIES:Events Calendar
ATTACH;FMTTYPE=image/png:https://huntsvillelakeofbays.on.ca/wp-content/uploads/2022/09/oktoberfest.png
ORGANIZER;CN="Huntsville/Lake of Bays Chamber of Commerce":MAILTO:chamber@huntsvillelakeofbays.on.ca
GEO:45.326283;-79.2177004
X-APPLE-STRUCTURED-LOCATION;VALUE=URI;X-ADDRESS=Muskoka Wide 37 Main Street East Huntsville Ontario P1H 1A1 Canada;X-APPLE-RADIUS=500;X-TITLE=37 Main Street East:geo:-79.2177004,45.326283
END:VEVENT
BEGIN:VEVENT
DTSTART;TZID=America/Toronto:20241029T133000
DTEND;TZID=America/Toronto:20241029T153000
DTSTAMP:20260421T024342
CREATED:20190318T152023Z
LAST-MODIFIED:20190318T152023Z
UID:10000875-1730208600-1730215800@huntsvillelakeofbays.on.ca
SUMMARY:Enliven - Talk it Out
DESCRIPTION:Talk it Out Groups \nCome and spend time with others who are living your experience. \nPatients can sit with others who are touched by cancer\, Caregivers can sit with others who are helping loved ones. \nBoth groups run at the same time. \nBeginning Tuesday March 26th\, 2019 and running the last Tuesday of each month thereafter. \n1:3opm to 3:30pm \nEnliven Space at Ahimsa Yoga Studio – 59 Main St. East \ninfo@enlivenmuskoka.ca \n705-787-5459 to register
URL:https://huntsvillelakeofbays.on.ca/events/enliven-talk-it-out/2024-10-29/
LOCATION:Ahimsa\, 59 Main Street East.\, Unit 2A\, Huntsville\, ON\, P1H 2B8\, Canada
CATEGORIES:Tourism
ATTACH;FMTTYPE=image/jpeg:https://huntsvillelakeofbays.on.ca/wp-content/uploads/2019/03/Talk-it-out-poster-with-watermark-v2-page00011.jpg
ORGANIZER;CN="Enliven Centre for Well-Being in Cancer":MAILTO:info@enliven.ca
GEO:45.3267695;-79.2170496
X-APPLE-STRUCTURED-LOCATION;VALUE=URI;X-ADDRESS=Ahimsa 59 Main Street East. Unit 2A Huntsville ON P1H 2B8 Canada;X-APPLE-RADIUS=500;X-TITLE=59 Main Street East.\, Unit 2A:geo:-79.2170496,45.3267695
END:VEVENT
END:VCALENDAR