BEGIN:VCALENDAR
VERSION:2.0
PRODID:-//Huntsville &amp; Lake of Bays Chamber of Commerce - ECPv6.9.1//NONSGML v1.0//EN
CALSCALE:GREGORIAN
METHOD:PUBLISH
X-ORIGINAL-URL:https://huntsvillelakeofbays.on.ca
X-WR-CALDESC:Events for Huntsville &amp; Lake of Bays Chamber of Commerce
REFRESH-INTERVAL;VALUE=DURATION:PT1H
X-Robots-Tag:noindex
X-PUBLISHED-TTL:PT1H
BEGIN:VTIMEZONE
TZID:America/Toronto
BEGIN:DAYLIGHT
TZOFFSETFROM:-0500
TZOFFSETTO:-0400
TZNAME:EDT
DTSTART:20250309T070000
END:DAYLIGHT
BEGIN:STANDARD
TZOFFSETFROM:-0400
TZOFFSETTO:-0500
TZNAME:EST
DTSTART:20251102T060000
END:STANDARD
END:VTIMEZONE
BEGIN:VEVENT
DTSTART;TZID=America/Toronto:20250409T130000
DTEND;TZID=America/Toronto:20250409T150000
DTSTAMP:20260420T141101
CREATED:20250403T141944Z
LAST-MODIFIED:20250403T141944Z
UID:10001925-1744203600-1744210800@huntsvillelakeofbays.on.ca
SUMMARY:Grand Opening - Corner Lighthouse Community Hub and Food Bank
DESCRIPTION:Join other Chamber Members\, Community Leaders and Residents in celebrating the Grand Opening of the newest \nCommunity Hub and Food Bank – \nCORNER LIGHTHOUSE. \nWednesday April 9th\, 2025 \n1pm \n33 Main Street East \nMeet the staff\, enjoy a tour\, light lunch and take part in the official ribbon cutting.
URL:https://huntsvillelakeofbays.on.ca/events/grand-opening-corner-lighthouse-community-hub-and-food-bank/
LOCATION:Corner Lighthouse\, 33 Main Street East\, Huntsville\, Canada
CATEGORIES:Chamber Membership
ORGANIZER;CN="Huntsville/Lake of Bays Chamber of Commerce":MAILTO:chamber@huntsvillelakeofbays.on.ca
GEO:45.3262124;-79.218063
X-APPLE-STRUCTURED-LOCATION;VALUE=URI;X-ADDRESS=Corner Lighthouse 33 Main Street East Huntsville Canada;X-APPLE-RADIUS=500;X-TITLE=33 Main Street East:geo:-79.218063,45.3262124
END:VEVENT
BEGIN:VEVENT
DTSTART;TZID=America/Toronto:20250411T100000
DTEND;TZID=America/Toronto:20250411T120000
DTSTAMP:20260420T141101
CREATED:20250403T142203Z
LAST-MODIFIED:20250403T142203Z
UID:10001926-1744365600-1744372800@huntsvillelakeofbays.on.ca
SUMMARY:Chamber Board Meeting
DESCRIPTION:Monthly Meeting – HLOB Chamber of Commerce Board Meeting
URL:https://huntsvillelakeofbays.on.ca/events/chamber-board-meeting/
LOCATION:Deerhurst Resort\, 1235 Deerhurst Drive\, Huntsville\, Ontario\, P1H 2E8\, Canada
CATEGORIES:Chamber Membership
ORGANIZER;CN="Huntsville/Lake of Bays Chamber of Commerce":MAILTO:chamber@huntsvillelakeofbays.on.ca
GEO:45.3468553;-79.1320601
X-APPLE-STRUCTURED-LOCATION;VALUE=URI;X-ADDRESS=Deerhurst Resort 1235 Deerhurst Drive Huntsville Ontario P1H 2E8 Canada;X-APPLE-RADIUS=500;X-TITLE=1235 Deerhurst Drive:geo:-79.1320601,45.3468553
END:VEVENT
BEGIN:VEVENT
DTSTART;TZID=America/Toronto:20250428T093000
DTEND;TZID=America/Toronto:20250428T213000
DTSTAMP:20260420T141101
CREATED:20250403T142554Z
LAST-MODIFIED:20250403T142554Z
UID:10001927-1745832600-1745875800@huntsvillelakeofbays.on.ca
SUMMARY:Federal Election Day
DESCRIPTION:Every vote counts. \nPolls open 9:30am to 9:30pm \nFor more information – Elections Canada – Home Page for the 2025 Federal Election
URL:https://huntsvillelakeofbays.on.ca/events/federal-election-day/
LOCATION:Ontario
CATEGORIES:Events Calendar
END:VEVENT
END:VCALENDAR