BEGIN:VCALENDAR
VERSION:2.0
PRODID:-//Huntsville &amp; Lake of Bays Chamber of Commerce - ECPv6.9.1//NONSGML v1.0//EN
CALSCALE:GREGORIAN
METHOD:PUBLISH
X-WR-CALNAME:Huntsville &amp; Lake of Bays Chamber of Commerce
X-ORIGINAL-URL:https://huntsvillelakeofbays.on.ca
X-WR-CALDESC:Events for Huntsville &amp; Lake of Bays Chamber of Commerce
REFRESH-INTERVAL;VALUE=DURATION:PT1H
X-Robots-Tag:noindex
X-PUBLISHED-TTL:PT1H
BEGIN:VTIMEZONE
TZID:America/Toronto
BEGIN:DAYLIGHT
TZOFFSETFROM:-0500
TZOFFSETTO:-0400
TZNAME:EDT
DTSTART:20260308T070000
END:DAYLIGHT
BEGIN:STANDARD
TZOFFSETFROM:-0400
TZOFFSETTO:-0500
TZNAME:EST
DTSTART:20261101T060000
END:STANDARD
END:VTIMEZONE
BEGIN:VEVENT
DTSTART;TZID=America/Toronto:20260129T130000
DTEND;TZID=America/Toronto:20260129T160000
DTSTAMP:20260419T220557
CREATED:20260114T205814Z
LAST-MODIFIED:20260114T205814Z
UID:10001939-1769691600-1769702400@huntsvillelakeofbays.on.ca
SUMMARY:HLOBARA - Human Trafficking Seminar
DESCRIPTION:In partnership with the Ontario Provincial Police\, we are offering a free seminar to educate your front-line staff on how to recognize signs of human trafficking. \nAll area Accommodators and Restaurant front line staff are encouraged to attend. \nRSVP to barb@huntsvillelakeofbays.on.ca
URL:https://huntsvillelakeofbays.on.ca/events/hlobara-human-trafficking-seminar/
LOCATION:Canvas Brewing Co.\, 12 John St\, Huntsville\, ON\, P1H 1H2\, Canada
CATEGORIES:Chamber Membership
ORGANIZER;CN="Huntsville/Lake of Bays Chamber of Commerce":MAILTO:chamber@huntsvillelakeofbays.on.ca
GEO:45.3288322;-79.2144738
X-APPLE-STRUCTURED-LOCATION;VALUE=URI;X-ADDRESS=Canvas Brewing Co. 12 John St Huntsville ON P1H 1H2 Canada;X-APPLE-RADIUS=500;X-TITLE=12 John St:geo:-79.2144738,45.3288322
END:VEVENT
END:VCALENDAR