BEGIN:VCALENDAR
VERSION:2.0
PRODID:-//Huntsville &amp; Lake of Bays Chamber of Commerce - ECPv6.9.1//NONSGML v1.0//EN
CALSCALE:GREGORIAN
METHOD:PUBLISH
X-ORIGINAL-URL:https://huntsvillelakeofbays.on.ca
X-WR-CALDESC:Events for Huntsville &amp; Lake of Bays Chamber of Commerce
REFRESH-INTERVAL;VALUE=DURATION:PT1H
X-Robots-Tag:noindex
X-PUBLISHED-TTL:PT1H
BEGIN:VTIMEZONE
TZID:America/Toronto
BEGIN:DAYLIGHT
TZOFFSETFROM:-0500
TZOFFSETTO:-0400
TZNAME:EDT
DTSTART:20170312T070000
END:DAYLIGHT
BEGIN:STANDARD
TZOFFSETFROM:-0400
TZOFFSETTO:-0500
TZNAME:EST
DTSTART:20171105T060000
END:STANDARD
END:VTIMEZONE
BEGIN:VEVENT
DTSTART;TZID=America/Toronto:20171027T193000
DTEND;TZID=America/Toronto:20171027T233000
DTSTAMP:20260425T220705
CREATED:20171010T132810Z
LAST-MODIFIED:20181216T182452Z
UID:10000272-1509132600-1509147000@huntsvillelakeofbays.on.ca
SUMMARY:An Evening of Comedy
DESCRIPTION:Join us for our second annual Evening of Comedy\, featuring stand up by Marc Trinidad and a live “maid and butler” style auction with Tyler Morrison. Guaranteed to be a night filled with fun\, laughter\, prizes and more! \nItems up for bid include: \n\nFree labour by HGTV’s Colin Hunter\nCo – Host Moose FM with Rachel Detta\nLunch with Mayor Scott Aitchison\n\n…. and many more! \nAll proceeds go to Big Brothers Big Sisters of Muskoka.
URL:https://huntsvillelakeofbays.on.ca/events/an-evening-of-comedy/
LOCATION:Grandview Golf Club\, 245 Grandview Drive North\, Huntsville\, Ontario\, P1H 1B4\, Canada
CATEGORIES:Tourism
ATTACH;FMTTYPE=image/jpeg:https://huntsvillelakeofbays.on.ca/wp-content/uploads/2017/10/Marc-Trinidad.jpg
ORGANIZER;CN="Big Brothers Big Sisters of Muskoka":MAILTO:muskoka@bigbrothersbigsisters.ca
GEO:45.353068;-79.1684634
X-APPLE-STRUCTURED-LOCATION;VALUE=URI;X-ADDRESS=Grandview Golf Club 245 Grandview Drive North Huntsville Ontario P1H 1B4 Canada;X-APPLE-RADIUS=500;X-TITLE=245 Grandview Drive North:geo:-79.1684634,45.353068
END:VEVENT
END:VCALENDAR