BEGIN:VCALENDAR
VERSION:2.0
PRODID:-//Huntsville &amp; Lake of Bays Chamber of Commerce - ECPv6.9.1//NONSGML v1.0//EN
CALSCALE:GREGORIAN
METHOD:PUBLISH
X-ORIGINAL-URL:https://huntsvillelakeofbays.on.ca
X-WR-CALDESC:Events for Huntsville &amp; Lake of Bays Chamber of Commerce
REFRESH-INTERVAL;VALUE=DURATION:PT1H
X-Robots-Tag:noindex
X-PUBLISHED-TTL:PT1H
BEGIN:VTIMEZONE
TZID:America/Toronto
BEGIN:DAYLIGHT
TZOFFSETFROM:-0500
TZOFFSETTO:-0400
TZNAME:EDT
DTSTART:20220313T070000
END:DAYLIGHT
BEGIN:STANDARD
TZOFFSETFROM:-0400
TZOFFSETTO:-0500
TZNAME:EST
DTSTART:20221106T060000
END:STANDARD
END:VTIMEZONE
BEGIN:VEVENT
DTSTART;TZID=America/Toronto:20221119T180000
DTEND;TZID=America/Toronto:20221119T210000
DTSTAMP:20260425T220401
CREATED:20221115T170251Z
LAST-MODIFIED:20221128T163301Z
UID:10001848-1668880800-1668891600@huntsvillelakeofbays.on.ca
SUMMARY:Live Entertainment at Eclipse "Walk with Light"
DESCRIPTION:Every Saturday at Eclipse “Walk with Light” enjoy live entertainment from various buskers and artists throughout the year. Drinks and food are available for purchase from Canvas Brewing Co. and Fox in the Henhouse!
URL:https://huntsvillelakeofbays.on.ca/events/live-buskers-at-eclipse-walk-with-light/2022-11-19/
LOCATION:Eclipse “Walk with Light”\, 100 Forbes Hill Dr\, Huntsville\, Ontario\, P1H1R1\, Canada
CATEGORIES:Cultural Events,Cultural Events,Events Calendar,Tourism
ATTACH;FMTTYPE=image/jpeg:https://huntsvillelakeofbays.on.ca/wp-content/uploads/2021/11/Eclipse-1.jpg
ORGANIZER;CN="Eclipse 'Walk with Light'":MAILTO:info@eclipselightwalk.com
GEO:45.3239347;-79.2105055
X-APPLE-STRUCTURED-LOCATION;VALUE=URI;X-ADDRESS=Eclipse “Walk with Light” 100 Forbes Hill Dr Huntsville Ontario P1H1R1 Canada;X-APPLE-RADIUS=500;X-TITLE=100 Forbes Hill Dr:geo:-79.2105055,45.3239347
END:VEVENT
BEGIN:VEVENT
DTSTART;TZID=America/Toronto:20221118T180000
DTEND;TZID=America/Toronto:20221118T210000
DTSTAMP:20260425T220401
CREATED:20221115T165935Z
LAST-MODIFIED:20221115T165935Z
UID:10001830-1668794400-1668805200@huntsvillelakeofbays.on.ca
SUMMARY:Live Music at Eclipse "Walk with Light"
DESCRIPTION:Every Friday at Eclipse “Walk with Light” enjoy live music along with drinks and food available for purchase from Canvas Brewing Co. and Fox in the Henhouse!
URL:https://huntsvillelakeofbays.on.ca/events/live-music-at-eclipse-walk-with-light/2022-11-18/
LOCATION:Eclipse “Walk with Light”\, 100 Forbes Hill Dr\, Huntsville\, Ontario\, P1H1R1\, Canada
CATEGORIES:Cultural Events,Cultural Events,Events Calendar,Tourism
ATTACH;FMTTYPE=image/jpeg:https://huntsvillelakeofbays.on.ca/wp-content/uploads/2022/02/ECLIPSE-0003.jpg
ORGANIZER;CN="Eclipse 'Walk with Light'":MAILTO:info@eclipselightwalk.com
GEO:45.3239347;-79.2105055
X-APPLE-STRUCTURED-LOCATION;VALUE=URI;X-ADDRESS=Eclipse “Walk with Light” 100 Forbes Hill Dr Huntsville Ontario P1H1R1 Canada;X-APPLE-RADIUS=500;X-TITLE=100 Forbes Hill Dr:geo:-79.2105055,45.3239347
END:VEVENT
BEGIN:VEVENT
DTSTART;TZID=America/Toronto:20221115T180000
DTEND;TZID=America/Toronto:20221115T210000
DTSTAMP:20260425T220401
CREATED:20221114T174628Z
LAST-MODIFIED:20221114T174719Z
UID:10001118-1668535200-1668546000@huntsvillelakeofbays.on.ca
SUMMARY:Walk a Goat with Muskoka Goat Away at Eclipse
DESCRIPTION:On Tuesday nights at Eclipse\, “Walk with Light”\, take a gentle goat for a walk with Muskoka Goat Away. Purchase tickets beforehand here. \nTo learn more about the Goats\, visit here.
URL:https://huntsvillelakeofbays.on.ca/events/walk-a-goat-with-muskoka-goat-away-at-eclipse/2022-11-15/
LOCATION:Eclipse “Walk with Light”\, 100 Forbes Hill Dr\, Huntsville\, Ontario\, P1H1R1\, Canada
CATEGORIES:Cultural Events,Cultural Events,Events Calendar,Tourism
ATTACH;FMTTYPE=image/jpeg:https://huntsvillelakeofbays.on.ca/wp-content/uploads/2022/01/Goat-Walking.jpeg
ORGANIZER;CN="Eclipse 'Walk with Light'":MAILTO:info@eclipselightwalk.com
GEO:45.3239347;-79.2105055
X-APPLE-STRUCTURED-LOCATION;VALUE=URI;X-ADDRESS=Eclipse “Walk with Light” 100 Forbes Hill Dr Huntsville Ontario P1H1R1 Canada;X-APPLE-RADIUS=500;X-TITLE=100 Forbes Hill Dr:geo:-79.2105055,45.3239347
END:VEVENT
END:VCALENDAR