BEGIN:VCALENDAR
VERSION:2.0
PRODID:-//Huntsville &amp; Lake of Bays Chamber of Commerce - ECPv6.9.1//NONSGML v1.0//EN
CALSCALE:GREGORIAN
METHOD:PUBLISH
X-WR-CALNAME:Huntsville &amp; Lake of Bays Chamber of Commerce
X-ORIGINAL-URL:https://huntsvillelakeofbays.on.ca
X-WR-CALDESC:Events for Huntsville &amp; Lake of Bays Chamber of Commerce
REFRESH-INTERVAL;VALUE=DURATION:PT1H
X-Robots-Tag:noindex
X-PUBLISHED-TTL:PT1H
BEGIN:VTIMEZONE
TZID:America/Toronto
BEGIN:DAYLIGHT
TZOFFSETFROM:-0500
TZOFFSETTO:-0400
TZNAME:EDT
DTSTART:20170312T070000
END:DAYLIGHT
BEGIN:STANDARD
TZOFFSETFROM:-0400
TZOFFSETTO:-0500
TZNAME:EST
DTSTART:20171105T060000
END:STANDARD
BEGIN:DAYLIGHT
TZOFFSETFROM:-0500
TZOFFSETTO:-0400
TZNAME:EDT
DTSTART:20180311T070000
END:DAYLIGHT
BEGIN:STANDARD
TZOFFSETFROM:-0400
TZOFFSETTO:-0500
TZNAME:EST
DTSTART:20181104T060000
END:STANDARD
BEGIN:DAYLIGHT
TZOFFSETFROM:-0500
TZOFFSETTO:-0400
TZNAME:EDT
DTSTART:20190310T070000
END:DAYLIGHT
BEGIN:STANDARD
TZOFFSETFROM:-0400
TZOFFSETTO:-0500
TZNAME:EST
DTSTART:20191103T060000
END:STANDARD
BEGIN:DAYLIGHT
TZOFFSETFROM:-0500
TZOFFSETTO:-0400
TZNAME:EDT
DTSTART:20200308T070000
END:DAYLIGHT
BEGIN:STANDARD
TZOFFSETFROM:-0400
TZOFFSETTO:-0500
TZNAME:EST
DTSTART:20201101T060000
END:STANDARD
BEGIN:DAYLIGHT
TZOFFSETFROM:-0500
TZOFFSETTO:-0400
TZNAME:EDT
DTSTART:20210314T070000
END:DAYLIGHT
BEGIN:STANDARD
TZOFFSETFROM:-0400
TZOFFSETTO:-0500
TZNAME:EST
DTSTART:20211107T060000
END:STANDARD
BEGIN:DAYLIGHT
TZOFFSETFROM:-0500
TZOFFSETTO:-0400
TZNAME:EDT
DTSTART:20220313T070000
END:DAYLIGHT
BEGIN:STANDARD
TZOFFSETFROM:-0400
TZOFFSETTO:-0500
TZNAME:EST
DTSTART:20221106T060000
END:STANDARD
END:VTIMEZONE
BEGIN:VEVENT
DTSTART;TZID=America/Toronto:20220923T100000
DTEND;TZID=America/Toronto:20220925T190000
DTSTAMP:20260425T204552
CREATED:20220915T185006Z
LAST-MODIFIED:20220915T185006Z
UID:10001785-1663927200-1664132400@huntsvillelakeofbays.on.ca
SUMMARY:Huntsville Fall Fair 2022
DESCRIPTION:Join in on the fun again this year as the Huntsville Fall Fair Returns! Take part in horse shows\, agricultural displays\, home crafts\, and the usual entertainment! \nFor more information visit www.huntsvillefallfair.com.
URL:https://huntsvillelakeofbays.on.ca/events/huntsville-fall-fair-2022/
LOCATION:Huntsville Fairgrounds\, 407 Ravenscliffe Road\, Huntsville\, Ontario\, P1H 2K5\, Canada
CATEGORIES:Cultural Events,Cultural Events,Events Calendar,Tourism
ATTACH;FMTTYPE=image/jpeg:https://huntsvillelakeofbays.on.ca/wp-content/uploads/2017/07/Huntsville-Fall-Fair.jpg
ORGANIZER;CN="Huntsville and District Agricultural Society":MAILTO:huntsvillefairsecretary@gmail.com
GEO:45.3377653;-79.2418824
X-APPLE-STRUCTURED-LOCATION;VALUE=URI;X-ADDRESS=Huntsville Fairgrounds 407 Ravenscliffe Road Huntsville Ontario P1H 2K5 Canada;X-APPLE-RADIUS=500;X-TITLE=407 Ravenscliffe Road:geo:-79.2418824,45.3377653
END:VEVENT
BEGIN:VEVENT
DTSTART;TZID=America/Toronto:20210925T100000
DTEND;TZID=America/Toronto:20210925T190000
DTSTAMP:20260425T204552
CREATED:20200601T155403Z
LAST-MODIFIED:20210813T133541Z
UID:10001493-1632564000-1632596400@huntsvillelakeofbays.on.ca
SUMMARY:Huntsville Fall Fair
DESCRIPTION:Join in on the fun again this year as the Huntsville Fall Fair Returns! Take part in horse shows\, agricultural displays\, home crafts\, and the usual entertainment! \nFor more information visit www.huntsvillefallfair.com.
URL:https://huntsvillelakeofbays.on.ca/events/huntsville-fall-fair-3/
LOCATION:Huntsville Fairgrounds\, 407 Ravenscliffe Road\, Huntsville\, Ontario\, P1H 2K5\, Canada
CATEGORIES:Cultural Events,Cultural Events,Events Calendar,Tourism
ATTACH;FMTTYPE=image/jpeg:https://huntsvillelakeofbays.on.ca/wp-content/uploads/2017/07/Huntsville-Fall-Fair.jpg
ORGANIZER;CN="Huntsville and District Agricultural Society":MAILTO:huntsvillefairsecretary@gmail.com
GEO:45.3377653;-79.2418824
X-APPLE-STRUCTURED-LOCATION;VALUE=URI;X-ADDRESS=Huntsville Fairgrounds 407 Ravenscliffe Road Huntsville Ontario P1H 2K5 Canada;X-APPLE-RADIUS=500;X-TITLE=407 Ravenscliffe Road:geo:-79.2418824,45.3377653
END:VEVENT
BEGIN:VEVENT
DTSTART;VALUE=DATE:20190920
DTEND;VALUE=DATE:20190923
DTSTAMP:20260425T204552
CREATED:20190627T190642Z
LAST-MODIFIED:20190917T135405Z
UID:10001234-1568937600-1569196799@huntsvillelakeofbays.on.ca
SUMMARY:Huntsville Fall Fair
DESCRIPTION:Join in on the fun again this year as the Huntsville Fall Fair Returns! Take part in horse shows\, agricultural displays\, home crafts\, and the usual entertainment! \n\nGate Admission: $5.00\n \nAdvance ride tickets are available for $35 at Rental City while supplies last ($45 at the fair). Purchase of advanced ride tickets does not include gate admission to the Huntsville Fall Fair \nFor more information visit www.huntsvillefallfair.com.
URL:https://huntsvillelakeofbays.on.ca/events/huntsville-fall-fair-2/
LOCATION:Huntsville Fairgrounds\, 407 Ravenscliffe Road\, Huntsville\, Ontario\, P1H 2K5\, Canada
CATEGORIES:Cultural Events,Cultural Events,Events Calendar,Tourism
ATTACH;FMTTYPE=image/jpeg:https://huntsvillelakeofbays.on.ca/wp-content/uploads/2017/07/Huntsville-Fall-Fair.jpg
ORGANIZER;CN="Huntsville and District Agricultural Society":MAILTO:huntsvillefairsecretary@gmail.com
GEO:45.3377653;-79.2418824
X-APPLE-STRUCTURED-LOCATION;VALUE=URI;X-ADDRESS=Huntsville Fairgrounds 407 Ravenscliffe Road Huntsville Ontario P1H 2K5 Canada;X-APPLE-RADIUS=500;X-TITLE=407 Ravenscliffe Road:geo:-79.2418824,45.3377653
END:VEVENT
BEGIN:VEVENT
DTSTART;VALUE=DATE:20170922
DTEND;VALUE=DATE:20170925
DTSTAMP:20260425T204552
CREATED:20170714T162455Z
LAST-MODIFIED:20181216T182442Z
UID:10000196-1506038400-1506297599@huntsvillelakeofbays.on.ca
SUMMARY:Huntsville Fall Fair
DESCRIPTION:Join in on the fun again this year as the Huntsville Fall Fair Returns! Take part in horse shows\, agricultural displays\, home crafts\, and the usual entertainment!
URL:https://huntsvillelakeofbays.on.ca/events/huntsville-fall-fair/
LOCATION:Huntsville Fairgrounds\, 407 Ravenscliffe Road\, Huntsville\, Ontario\, P1H 2K5\, Canada
CATEGORIES:Tourism
ATTACH;FMTTYPE=image/jpeg:https://huntsvillelakeofbays.on.ca/wp-content/uploads/2017/07/Huntsville-Fall-Fair.jpg
ORGANIZER;CN="Huntsville and District Agricultural Society":MAILTO:huntsvillefairsecretary@gmail.com
GEO:45.3377653;-79.2418824
X-APPLE-STRUCTURED-LOCATION;VALUE=URI;X-ADDRESS=Huntsville Fairgrounds 407 Ravenscliffe Road Huntsville Ontario P1H 2K5 Canada;X-APPLE-RADIUS=500;X-TITLE=407 Ravenscliffe Road:geo:-79.2418824,45.3377653
END:VEVENT
END:VCALENDAR