BEGIN:VCALENDAR
VERSION:2.0
PRODID:-//Huntsville &amp; Lake of Bays Chamber of Commerce - ECPv6.9.1//NONSGML v1.0//EN
CALSCALE:GREGORIAN
METHOD:PUBLISH
X-WR-CALNAME:Huntsville &amp; Lake of Bays Chamber of Commerce
X-ORIGINAL-URL:https://huntsvillelakeofbays.on.ca
X-WR-CALDESC:Events for Huntsville &amp; Lake of Bays Chamber of Commerce
REFRESH-INTERVAL;VALUE=DURATION:PT1H
X-Robots-Tag:noindex
X-PUBLISHED-TTL:PT1H
BEGIN:VTIMEZONE
TZID:America/Toronto
BEGIN:DAYLIGHT
TZOFFSETFROM:-0500
TZOFFSETTO:-0400
TZNAME:EDT
DTSTART:20180311T070000
END:DAYLIGHT
BEGIN:STANDARD
TZOFFSETFROM:-0400
TZOFFSETTO:-0500
TZNAME:EST
DTSTART:20181104T060000
END:STANDARD
END:VTIMEZONE
BEGIN:VEVENT
DTSTART;VALUE=DATE:20180525
DTEND;VALUE=DATE:20180528
DTSTAMP:20260419T122702
CREATED:20171219T181929Z
LAST-MODIFIED:20181216T182551Z
UID:10000313-1527206400-1527465599@huntsvillelakeofbays.on.ca
SUMMARY:Inspire Tech Canada 2018 Expo
DESCRIPTION:The First Annual Inspire Tech Canada 2018 Expo is coming! \nThe 1st Annual Inspire Tech Canada 2018 Expo is slated to be\, The Ultimate End of Season; Wrap-up Party and Advanced Skills Competition with an Edge. \nThe event takes place May 25\, 26\, 27 2018 in Huntsville\, at The Canada Summit Centre. The lucky Teams that are chosen & receive an invitation to compete will be from around the globe. \nOver 25 High School Teams in total\, teams of 6 will compete for a chance to win the Ultimate Bonus for their team. The Top 3 Teams are all eligible for a Cash Prize; which will help to accelerate their team to future successes. \nHigh Schools from the Trillium Lakelands District School Board and the Near North District School Board; will play a key role\, competing\, hosting and supporting the Expo. \nSponsors & Teams are encouraged to register now to participate in the event. Limited space is available for sponsors and teams. Registering early and confirming your sponsorship provides the best opportunity to have a chance to be selected to compete and or advertise at the Expo. \nTeams and attendees of the Expo will meet representatives from the leading Canadian Robotics and STEM based organizations at the event; they will be available to meet the students and teams. Along with the top higher education institutions representatives and local government principals. Participants will also be able to enjoy innovative Best Practice Work Shops\, Listen to Key Note Speakers and purchase Gala tickets for the Saturday evening dinner and dance. The value in such an event for the industry\, the community\, the teams\, the mentors\, the sponsors is un-rivaled. Teams that receive an invitation to the Expo will be transported into an exciting competition\, filled with like-minded individuals. This Expo will be the New Standard in delivering an\, “End of season official wrap up”. The event will be focused on allowing teams to get together for some challenging fun & some tire kicking on their robot; which will test the team in advanced skills areas & provide invaluable feedback on the robots performance. This Expo will illuminate these Elite Robotics Teams globally; and will provide the teams a constructive environment to allow them to share time within a very specialized community focused on the expansion of all things\, STEM.  \nMuskoka is the ideal host for this ground breaking Expo!  \nThe Inspire Tech Canada 2018 Expo is a non profit organization based in Muskoka. The Expo is planned as an End of Season Wrap Up in the spring scheduled for May 25.26.27.2018 as a prelude to a fall\, Pre-Season Kick off International Expo in October 2018. Both of the events are selected to compliment\, the existing robotics platform scheduling calendars in place. \nFor more details please contact: \nKyle Boyko\nPresident & CEO\nInspire Tech Canada Corporation\nwww.inspiretechcanada.ca\nKyle@inspiretechcanada.ca \nP 416.575.0915
URL:https://huntsvillelakeofbays.on.ca/events/inspire-tech-canada-2018-expo/
LOCATION:Canada Summit Centre\, 20 Park Drive\, Huntsville\, Ontario\, P1H 1P5\, Canada
CATEGORIES:Tourism
ATTACH;FMTTYPE=image/jpeg:https://huntsvillelakeofbays.on.ca/wp-content/uploads/2017/12/Inspire-Tech.jpg
ORGANIZER;CN="Inspire Tech Canada Corporation":MAILTO:Kyle@inspiretechcanada.ca
GEO:45.32313;-79.2135785
X-APPLE-STRUCTURED-LOCATION;VALUE=URI;X-ADDRESS=Canada Summit Centre 20 Park Drive Huntsville Ontario P1H 1P5 Canada;X-APPLE-RADIUS=500;X-TITLE=20 Park Drive:geo:-79.2135785,45.32313
END:VEVENT
END:VCALENDAR