BEGIN:VCALENDAR
VERSION:2.0
PRODID:-//Huntsville &amp; Lake of Bays Chamber of Commerce - ECPv6.9.1//NONSGML v1.0//EN
CALSCALE:GREGORIAN
METHOD:PUBLISH
X-WR-CALNAME:Huntsville &amp; Lake of Bays Chamber of Commerce
X-ORIGINAL-URL:https://huntsvillelakeofbays.on.ca
X-WR-CALDESC:Events for Huntsville &amp; Lake of Bays Chamber of Commerce
REFRESH-INTERVAL;VALUE=DURATION:PT1H
X-Robots-Tag:noindex
X-PUBLISHED-TTL:PT1H
BEGIN:VTIMEZONE
TZID:America/Toronto
BEGIN:DAYLIGHT
TZOFFSETFROM:-0500
TZOFFSETTO:-0400
TZNAME:EDT
DTSTART:20220313T070000
END:DAYLIGHT
BEGIN:STANDARD
TZOFFSETFROM:-0400
TZOFFSETTO:-0500
TZNAME:EST
DTSTART:20221106T060000
END:STANDARD
END:VTIMEZONE
BEGIN:VEVENT
DTSTART;TZID=America/Toronto:20221217T163000
DTEND;TZID=America/Toronto:20221217T200000
DTSTAMP:20260421T195502
CREATED:20221130T171239Z
LAST-MODIFIED:20221130T171239Z
UID:10001204-1671294600-1671307200@huntsvillelakeofbays.on.ca
SUMMARY:Portage Flyer Christmas Train Ride to Santa
DESCRIPTION:Super-magicated is the word we use to describe this fun community event! \n\nThe Portage Flyer locomotive and authentic coaches have a thousand lights\nEnjoy a cup of free hot chocolate and cookies (while supplies last) and sing along to the carols while you wait to board the train\nOnce on board\, you will gently ride alongside the Muskoka River to The Purser’s Cabin\nSanta is waiting to hear “your side of the story”. If you want to stay longer\, you can always catch the next train back\n\nWhere: \n\nMuskoka Heritage Place Rotary Village Station – directions to 100 Forbes Hill Drive\, Huntsville\nDecember 17\, 2022\nGate opens at 4:30 pm\, rides begin at 5 pm until 8 pm (last train leaves station at 7:30 pm)\n\nWho: \nAll ages – families\, couples\, friends. \nCost: \n\n$5.00 per person\, babes in arms are free\nPurchase your tickets once inside and just prior to boarding (sorry\, advance tickets or reserve seating is not available)\nWe accept: Visa\, Master Card\, cash and debit
URL:https://huntsvillelakeofbays.on.ca/events/portage-flyer-christmas-train-ride-to-santa/
LOCATION:Muskoka Heritage Place (Rotary Village Station Entrance)\, 100 Forbes Hill Dr\, Huntsville\, ON\, P1H1R1\, Canada
CATEGORIES:Cultural Events,Cultural Events,Events Calendar,Tourism
ATTACH;FMTTYPE=image/jpeg:https://huntsvillelakeofbays.on.ca/wp-content/uploads/2022/11/OurCommunityEvents_PortageFlyer_1800x434.jpg
GEO:45.3239357;-79.2104887
X-APPLE-STRUCTURED-LOCATION;VALUE=URI;X-ADDRESS=Muskoka Heritage Place (Rotary Village Station Entrance) 100 Forbes Hill Dr Huntsville ON P1H1R1 Canada;X-APPLE-RADIUS=500;X-TITLE=100 Forbes Hill Dr:geo:-79.2104887,45.3239357
END:VEVENT
BEGIN:VEVENT
DTSTART;TZID=America/Toronto:20221031T170000
DTEND;TZID=America/Toronto:20221031T200000
DTSTAMP:20260421T195502
CREATED:20221026T182336Z
LAST-MODIFIED:20221026T182336Z
UID:10001066-1667235600-1667246400@huntsvillelakeofbays.on.ca
SUMMARY:Great Pumpkin Trail
DESCRIPTION:A family-friendly annual community event aimed to spook but not haunt. Trick-or-treat with us on the evening of October 31 each year\, rain or shine! \nAbout\n\nYou’ll be trick or treating in a traffic-free setting\nPioneer buildings are decorated by local businesses or people\nThemes are kept on the “not-so-scary” side as this event is geared for the younger trick or treaters\nThe site has rope lights to guide you as you go building to building gathering your treats\nMayor judges the best decorated building\nMusic\, magic\, mystery
URL:https://huntsvillelakeofbays.on.ca/events/great-pumpkin-trail-4/
LOCATION:Muskoka Heritage Place\, 88 Brunel Road\, Huntsville\, Ontario\, P1H1R1\, Canada
CATEGORIES:Cultural Events,Cultural Events,Events Calendar,Tourism
ATTACH;FMTTYPE=image/jpeg:https://huntsvillelakeofbays.on.ca/wp-content/uploads/2022/10/great-pumpkin-trail.jpg
GEO:45.3210641;-79.2122733
X-APPLE-STRUCTURED-LOCATION;VALUE=URI;X-ADDRESS=Muskoka Heritage Place 88 Brunel Road Huntsville Ontario P1H1R1 Canada;X-APPLE-RADIUS=500;X-TITLE=88 Brunel Road:geo:-79.2122733,45.3210641
END:VEVENT
END:VCALENDAR