BEGIN:VCALENDAR
VERSION:2.0
PRODID:-//Huntsville &amp; Lake of Bays Chamber of Commerce - ECPv6.9.1//NONSGML v1.0//EN
CALSCALE:GREGORIAN
METHOD:PUBLISH
X-WR-CALNAME:Huntsville &amp; Lake of Bays Chamber of Commerce
X-ORIGINAL-URL:https://huntsvillelakeofbays.on.ca
X-WR-CALDESC:Events for Huntsville &amp; Lake of Bays Chamber of Commerce
REFRESH-INTERVAL;VALUE=DURATION:PT1H
X-Robots-Tag:noindex
X-PUBLISHED-TTL:PT1H
BEGIN:VTIMEZONE
TZID:America/Toronto
BEGIN:DAYLIGHT
TZOFFSETFROM:-0500
TZOFFSETTO:-0400
TZNAME:EDT
DTSTART:20190310T070000
END:DAYLIGHT
BEGIN:STANDARD
TZOFFSETFROM:-0400
TZOFFSETTO:-0500
TZNAME:EST
DTSTART:20191103T060000
END:STANDARD
END:VTIMEZONE
BEGIN:VEVENT
DTSTART;TZID=America/Toronto:20190827T100000
DTEND;TZID=America/Toronto:20190827T140000
DTSTAMP:20260425T155121
CREATED:20190625T134351Z
LAST-MODIFIED:20190625T134351Z
UID:10001110-1566900000-1566914400@huntsvillelakeofbays.on.ca
SUMMARY:Dwight Farmers' Market
DESCRIPTION:The Dwight Farmers’ Market is a growing collection of farmers\, artists\, and small business owners who have collaborated our diverse skills to create an inspiring\, unique and nourishing (in every sense of the word) market. \n\n\nGrow It\, Make It\, Bake It\, Create It\, Do It! \nEvery Tuesday 10-2\nLIVE MUSIC EACH WEEK! \nNew Vendors & Our Faithful Repeat Vendors! 
URL:https://huntsvillelakeofbays.on.ca/events/dwight-farmers-market/2019-08-27/
LOCATION:1009 Dwight Bay Road\, 1009 Dwight Bay Road\, Dwight\, ON\, P0A 1H0\, Canada
CATEGORIES:Cultural Events,Cultural Events,Events Calendar,Tourism
ATTACH;FMTTYPE=image/jpeg:https://huntsvillelakeofbays.on.ca/wp-content/uploads/2019/06/Fruit.jpg
ORGANIZER;CN="Tanya Grainger":MAILTO:DwightFarmersMarket@gmail.com
GEO:45.330188;-79.0117447
X-APPLE-STRUCTURED-LOCATION;VALUE=URI;X-ADDRESS=1009 Dwight Bay Road 1009 Dwight Bay Road Dwight ON P0A 1H0 Canada;X-APPLE-RADIUS=500;X-TITLE=1009 Dwight Bay Road:geo:-79.0117447,45.330188
END:VEVENT
BEGIN:VEVENT
DTSTART;TZID=America/Toronto:20190820T100000
DTEND;TZID=America/Toronto:20190820T140000
DTSTAMP:20260425T155121
CREATED:20190625T134351Z
LAST-MODIFIED:20190625T134351Z
UID:10001109-1566295200-1566309600@huntsvillelakeofbays.on.ca
SUMMARY:Dwight Farmers' Market
DESCRIPTION:The Dwight Farmers’ Market is a growing collection of farmers\, artists\, and small business owners who have collaborated our diverse skills to create an inspiring\, unique and nourishing (in every sense of the word) market. \n\n\nGrow It\, Make It\, Bake It\, Create It\, Do It! \nEvery Tuesday 10-2\nLIVE MUSIC EACH WEEK! \nNew Vendors & Our Faithful Repeat Vendors! 
URL:https://huntsvillelakeofbays.on.ca/events/dwight-farmers-market/2019-08-20/
LOCATION:1009 Dwight Bay Road\, 1009 Dwight Bay Road\, Dwight\, ON\, P0A 1H0\, Canada
CATEGORIES:Cultural Events,Cultural Events,Events Calendar,Tourism
ATTACH;FMTTYPE=image/jpeg:https://huntsvillelakeofbays.on.ca/wp-content/uploads/2019/06/Fruit.jpg
ORGANIZER;CN="Tanya Grainger":MAILTO:DwightFarmersMarket@gmail.com
GEO:45.330188;-79.0117447
X-APPLE-STRUCTURED-LOCATION;VALUE=URI;X-ADDRESS=1009 Dwight Bay Road 1009 Dwight Bay Road Dwight ON P0A 1H0 Canada;X-APPLE-RADIUS=500;X-TITLE=1009 Dwight Bay Road:geo:-79.0117447,45.330188
END:VEVENT
BEGIN:VEVENT
DTSTART;TZID=America/Toronto:20190813T100000
DTEND;TZID=America/Toronto:20190813T140000
DTSTAMP:20260425T155121
CREATED:20190625T134351Z
LAST-MODIFIED:20190625T134351Z
UID:10001108-1565690400-1565704800@huntsvillelakeofbays.on.ca
SUMMARY:Dwight Farmers' Market
DESCRIPTION:The Dwight Farmers’ Market is a growing collection of farmers\, artists\, and small business owners who have collaborated our diverse skills to create an inspiring\, unique and nourishing (in every sense of the word) market. \n\n\nGrow It\, Make It\, Bake It\, Create It\, Do It! \nEvery Tuesday 10-2\nLIVE MUSIC EACH WEEK! \nNew Vendors & Our Faithful Repeat Vendors! 
URL:https://huntsvillelakeofbays.on.ca/events/dwight-farmers-market/2019-08-13/
LOCATION:1009 Dwight Bay Road\, 1009 Dwight Bay Road\, Dwight\, ON\, P0A 1H0\, Canada
CATEGORIES:Cultural Events,Cultural Events,Events Calendar,Tourism
ATTACH;FMTTYPE=image/jpeg:https://huntsvillelakeofbays.on.ca/wp-content/uploads/2019/06/Fruit.jpg
ORGANIZER;CN="Tanya Grainger":MAILTO:DwightFarmersMarket@gmail.com
GEO:45.330188;-79.0117447
X-APPLE-STRUCTURED-LOCATION;VALUE=URI;X-ADDRESS=1009 Dwight Bay Road 1009 Dwight Bay Road Dwight ON P0A 1H0 Canada;X-APPLE-RADIUS=500;X-TITLE=1009 Dwight Bay Road:geo:-79.0117447,45.330188
END:VEVENT
BEGIN:VEVENT
DTSTART;TZID=America/Toronto:20190806T100000
DTEND;TZID=America/Toronto:20190806T140000
DTSTAMP:20260425T155121
CREATED:20190625T134351Z
LAST-MODIFIED:20190625T134351Z
UID:10001107-1565085600-1565100000@huntsvillelakeofbays.on.ca
SUMMARY:Dwight Farmers' Market
DESCRIPTION:The Dwight Farmers’ Market is a growing collection of farmers\, artists\, and small business owners who have collaborated our diverse skills to create an inspiring\, unique and nourishing (in every sense of the word) market. \n\n\nGrow It\, Make It\, Bake It\, Create It\, Do It! \nEvery Tuesday 10-2\nLIVE MUSIC EACH WEEK! \nNew Vendors & Our Faithful Repeat Vendors! 
URL:https://huntsvillelakeofbays.on.ca/events/dwight-farmers-market/2019-08-06/
LOCATION:1009 Dwight Bay Road\, 1009 Dwight Bay Road\, Dwight\, ON\, P0A 1H0\, Canada
CATEGORIES:Cultural Events,Cultural Events,Events Calendar,Tourism
ATTACH;FMTTYPE=image/jpeg:https://huntsvillelakeofbays.on.ca/wp-content/uploads/2019/06/Fruit.jpg
ORGANIZER;CN="Tanya Grainger":MAILTO:DwightFarmersMarket@gmail.com
GEO:45.330188;-79.0117447
X-APPLE-STRUCTURED-LOCATION;VALUE=URI;X-ADDRESS=1009 Dwight Bay Road 1009 Dwight Bay Road Dwight ON P0A 1H0 Canada;X-APPLE-RADIUS=500;X-TITLE=1009 Dwight Bay Road:geo:-79.0117447,45.330188
END:VEVENT
BEGIN:VEVENT
DTSTART;TZID=America/Toronto:20190730T100000
DTEND;TZID=America/Toronto:20190730T140000
DTSTAMP:20260425T155121
CREATED:20190625T134351Z
LAST-MODIFIED:20190625T134351Z
UID:10001106-1564480800-1564495200@huntsvillelakeofbays.on.ca
SUMMARY:Dwight Farmers' Market
DESCRIPTION:The Dwight Farmers’ Market is a growing collection of farmers\, artists\, and small business owners who have collaborated our diverse skills to create an inspiring\, unique and nourishing (in every sense of the word) market. \n\n\nGrow It\, Make It\, Bake It\, Create It\, Do It! \nEvery Tuesday 10-2\nLIVE MUSIC EACH WEEK! \nNew Vendors & Our Faithful Repeat Vendors! 
URL:https://huntsvillelakeofbays.on.ca/events/dwight-farmers-market/2019-07-30/
LOCATION:1009 Dwight Bay Road\, 1009 Dwight Bay Road\, Dwight\, ON\, P0A 1H0\, Canada
CATEGORIES:Cultural Events,Cultural Events,Events Calendar,Tourism
ATTACH;FMTTYPE=image/jpeg:https://huntsvillelakeofbays.on.ca/wp-content/uploads/2019/06/Fruit.jpg
ORGANIZER;CN="Tanya Grainger":MAILTO:DwightFarmersMarket@gmail.com
GEO:45.330188;-79.0117447
X-APPLE-STRUCTURED-LOCATION;VALUE=URI;X-ADDRESS=1009 Dwight Bay Road 1009 Dwight Bay Road Dwight ON P0A 1H0 Canada;X-APPLE-RADIUS=500;X-TITLE=1009 Dwight Bay Road:geo:-79.0117447,45.330188
END:VEVENT
BEGIN:VEVENT
DTSTART;TZID=America/Toronto:20190723T100000
DTEND;TZID=America/Toronto:20190723T140000
DTSTAMP:20260425T155121
CREATED:20190625T134351Z
LAST-MODIFIED:20190625T134351Z
UID:10001105-1563876000-1563890400@huntsvillelakeofbays.on.ca
SUMMARY:Dwight Farmers' Market
DESCRIPTION:The Dwight Farmers’ Market is a growing collection of farmers\, artists\, and small business owners who have collaborated our diverse skills to create an inspiring\, unique and nourishing (in every sense of the word) market. \n\n\nGrow It\, Make It\, Bake It\, Create It\, Do It! \nEvery Tuesday 10-2\nLIVE MUSIC EACH WEEK! \nNew Vendors & Our Faithful Repeat Vendors! 
URL:https://huntsvillelakeofbays.on.ca/events/dwight-farmers-market/2019-07-23/
LOCATION:1009 Dwight Bay Road\, 1009 Dwight Bay Road\, Dwight\, ON\, P0A 1H0\, Canada
CATEGORIES:Cultural Events,Cultural Events,Events Calendar,Tourism
ATTACH;FMTTYPE=image/jpeg:https://huntsvillelakeofbays.on.ca/wp-content/uploads/2019/06/Fruit.jpg
ORGANIZER;CN="Tanya Grainger":MAILTO:DwightFarmersMarket@gmail.com
GEO:45.330188;-79.0117447
X-APPLE-STRUCTURED-LOCATION;VALUE=URI;X-ADDRESS=1009 Dwight Bay Road 1009 Dwight Bay Road Dwight ON P0A 1H0 Canada;X-APPLE-RADIUS=500;X-TITLE=1009 Dwight Bay Road:geo:-79.0117447,45.330188
END:VEVENT
BEGIN:VEVENT
DTSTART;TZID=America/Toronto:20190716T100000
DTEND;TZID=America/Toronto:20190716T140000
DTSTAMP:20260425T155121
CREATED:20190625T134351Z
LAST-MODIFIED:20190625T134351Z
UID:10001104-1563271200-1563285600@huntsvillelakeofbays.on.ca
SUMMARY:Dwight Farmers' Market
DESCRIPTION:The Dwight Farmers’ Market is a growing collection of farmers\, artists\, and small business owners who have collaborated our diverse skills to create an inspiring\, unique and nourishing (in every sense of the word) market. \n\n\nGrow It\, Make It\, Bake It\, Create It\, Do It! \nEvery Tuesday 10-2\nLIVE MUSIC EACH WEEK! \nNew Vendors & Our Faithful Repeat Vendors! 
URL:https://huntsvillelakeofbays.on.ca/events/dwight-farmers-market/2019-07-16/
LOCATION:1009 Dwight Bay Road\, 1009 Dwight Bay Road\, Dwight\, ON\, P0A 1H0\, Canada
CATEGORIES:Cultural Events,Cultural Events,Events Calendar,Tourism
ATTACH;FMTTYPE=image/jpeg:https://huntsvillelakeofbays.on.ca/wp-content/uploads/2019/06/Fruit.jpg
ORGANIZER;CN="Tanya Grainger":MAILTO:DwightFarmersMarket@gmail.com
GEO:45.330188;-79.0117447
X-APPLE-STRUCTURED-LOCATION;VALUE=URI;X-ADDRESS=1009 Dwight Bay Road 1009 Dwight Bay Road Dwight ON P0A 1H0 Canada;X-APPLE-RADIUS=500;X-TITLE=1009 Dwight Bay Road:geo:-79.0117447,45.330188
END:VEVENT
BEGIN:VEVENT
DTSTART;TZID=America/Toronto:20190709T100000
DTEND;TZID=America/Toronto:20190709T140000
DTSTAMP:20260425T155121
CREATED:20190625T134351Z
LAST-MODIFIED:20190625T134351Z
UID:10001103-1562666400-1562680800@huntsvillelakeofbays.on.ca
SUMMARY:Dwight Farmers' Market
DESCRIPTION:The Dwight Farmers’ Market is a growing collection of farmers\, artists\, and small business owners who have collaborated our diverse skills to create an inspiring\, unique and nourishing (in every sense of the word) market. \n\n\nGrow It\, Make It\, Bake It\, Create It\, Do It! \nEvery Tuesday 10-2\nLIVE MUSIC EACH WEEK! \nNew Vendors & Our Faithful Repeat Vendors! 
URL:https://huntsvillelakeofbays.on.ca/events/dwight-farmers-market/2019-07-09/
LOCATION:1009 Dwight Bay Road\, 1009 Dwight Bay Road\, Dwight\, ON\, P0A 1H0\, Canada
CATEGORIES:Cultural Events,Cultural Events,Events Calendar,Tourism
ATTACH;FMTTYPE=image/jpeg:https://huntsvillelakeofbays.on.ca/wp-content/uploads/2019/06/Fruit.jpg
ORGANIZER;CN="Tanya Grainger":MAILTO:DwightFarmersMarket@gmail.com
GEO:45.330188;-79.0117447
X-APPLE-STRUCTURED-LOCATION;VALUE=URI;X-ADDRESS=1009 Dwight Bay Road 1009 Dwight Bay Road Dwight ON P0A 1H0 Canada;X-APPLE-RADIUS=500;X-TITLE=1009 Dwight Bay Road:geo:-79.0117447,45.330188
END:VEVENT
BEGIN:VEVENT
DTSTART;TZID=America/Toronto:20190702T100000
DTEND;TZID=America/Toronto:20190702T140000
DTSTAMP:20260425T155121
CREATED:20190625T134351Z
LAST-MODIFIED:20190625T134351Z
UID:10001102-1562061600-1562076000@huntsvillelakeofbays.on.ca
SUMMARY:Dwight Farmers' Market
DESCRIPTION:The Dwight Farmers’ Market is a growing collection of farmers\, artists\, and small business owners who have collaborated our diverse skills to create an inspiring\, unique and nourishing (in every sense of the word) market. \n\n\nGrow It\, Make It\, Bake It\, Create It\, Do It! \nEvery Tuesday 10-2\nLIVE MUSIC EACH WEEK! \nNew Vendors & Our Faithful Repeat Vendors! 
URL:https://huntsvillelakeofbays.on.ca/events/dwight-farmers-market/2019-07-02/
LOCATION:1009 Dwight Bay Road\, 1009 Dwight Bay Road\, Dwight\, ON\, P0A 1H0\, Canada
CATEGORIES:Cultural Events,Cultural Events,Events Calendar,Tourism
ATTACH;FMTTYPE=image/jpeg:https://huntsvillelakeofbays.on.ca/wp-content/uploads/2019/06/Fruit.jpg
ORGANIZER;CN="Tanya Grainger":MAILTO:DwightFarmersMarket@gmail.com
GEO:45.330188;-79.0117447
X-APPLE-STRUCTURED-LOCATION;VALUE=URI;X-ADDRESS=1009 Dwight Bay Road 1009 Dwight Bay Road Dwight ON P0A 1H0 Canada;X-APPLE-RADIUS=500;X-TITLE=1009 Dwight Bay Road:geo:-79.0117447,45.330188
END:VEVENT
BEGIN:VEVENT
DTSTART;TZID=America/Toronto:20190625T100000
DTEND;TZID=America/Toronto:20190625T140000
DTSTAMP:20260425T155121
CREATED:20190625T134351Z
LAST-MODIFIED:20190625T134351Z
UID:10001101-1561456800-1561471200@huntsvillelakeofbays.on.ca
SUMMARY:Dwight Farmers' Market
DESCRIPTION:The Dwight Farmers’ Market is a growing collection of farmers\, artists\, and small business owners who have collaborated our diverse skills to create an inspiring\, unique and nourishing (in every sense of the word) market. \n\n\nGrow It\, Make It\, Bake It\, Create It\, Do It! \nEvery Tuesday 10-2\nLIVE MUSIC EACH WEEK! \nNew Vendors & Our Faithful Repeat Vendors! 
URL:https://huntsvillelakeofbays.on.ca/events/dwight-farmers-market/2019-06-25/
LOCATION:1009 Dwight Bay Road\, 1009 Dwight Bay Road\, Dwight\, ON\, P0A 1H0\, Canada
CATEGORIES:Cultural Events,Cultural Events,Events Calendar,Tourism
ATTACH;FMTTYPE=image/jpeg:https://huntsvillelakeofbays.on.ca/wp-content/uploads/2019/06/Fruit.jpg
ORGANIZER;CN="Tanya Grainger":MAILTO:DwightFarmersMarket@gmail.com
GEO:45.330188;-79.0117447
X-APPLE-STRUCTURED-LOCATION;VALUE=URI;X-ADDRESS=1009 Dwight Bay Road 1009 Dwight Bay Road Dwight ON P0A 1H0 Canada;X-APPLE-RADIUS=500;X-TITLE=1009 Dwight Bay Road:geo:-79.0117447,45.330188
END:VEVENT
END:VCALENDAR