BEGIN:VCALENDAR
VERSION:2.0
PRODID:-//Huntsville &amp; Lake of Bays Chamber of Commerce - ECPv6.9.1//NONSGML v1.0//EN
CALSCALE:GREGORIAN
METHOD:PUBLISH
X-ORIGINAL-URL:https://huntsvillelakeofbays.on.ca
X-WR-CALDESC:Events for Huntsville &amp; Lake of Bays Chamber of Commerce
REFRESH-INTERVAL;VALUE=DURATION:PT1H
X-Robots-Tag:noindex
X-PUBLISHED-TTL:PT1H
BEGIN:VTIMEZONE
TZID:America/Toronto
BEGIN:DAYLIGHT
TZOFFSETFROM:-0500
TZOFFSETTO:-0400
TZNAME:EDT
DTSTART:20190310T070000
END:DAYLIGHT
BEGIN:STANDARD
TZOFFSETFROM:-0400
TZOFFSETTO:-0500
TZNAME:EST
DTSTART:20191103T060000
END:STANDARD
BEGIN:DAYLIGHT
TZOFFSETFROM:-0500
TZOFFSETTO:-0400
TZNAME:EDT
DTSTART:20200308T070000
END:DAYLIGHT
BEGIN:STANDARD
TZOFFSETFROM:-0400
TZOFFSETTO:-0500
TZNAME:EST
DTSTART:20201101T060000
END:STANDARD
BEGIN:DAYLIGHT
TZOFFSETFROM:-0500
TZOFFSETTO:-0400
TZNAME:EDT
DTSTART:20210314T070000
END:DAYLIGHT
BEGIN:STANDARD
TZOFFSETFROM:-0400
TZOFFSETTO:-0500
TZNAME:EST
DTSTART:20211107T060000
END:STANDARD
BEGIN:DAYLIGHT
TZOFFSETFROM:-0500
TZOFFSETTO:-0400
TZNAME:EDT
DTSTART:20220313T070000
END:DAYLIGHT
BEGIN:STANDARD
TZOFFSETFROM:-0400
TZOFFSETTO:-0500
TZNAME:EST
DTSTART:20221106T060000
END:STANDARD
END:VTIMEZONE
BEGIN:VEVENT
DTSTART;TZID=America/Toronto:20220918T090000
DTEND;TZID=America/Toronto:20220918T110000
DTSTAMP:20260420T014922
CREATED:20220906T192513Z
LAST-MODIFIED:20220906T192513Z
UID:10001041-1663491600-1663498800@huntsvillelakeofbays.on.ca
SUMMARY:Terry Fox Run
DESCRIPTION:Come on out Sun Sept 18th 2022 to Huntsville High School to help raise money for the 42nd annual Terry Fox run/walk! In support of the Terry Fox Run for cancer research.
URL:https://huntsvillelakeofbays.on.ca/events/terry-fox-run-2/
LOCATION:Huntsville High School\, 58 Brunel Road\, Huntsville\, Ontario\, P1H 2A2\, Canada
CATEGORIES:Cultural Events,Cultural Events,Events Calendar,Tourism
ATTACH;FMTTYPE=image/jpeg:https://huntsvillelakeofbays.on.ca/wp-content/uploads/2018/12/terry-marathon.jpg
GEO:45.322709;-79.213612
X-APPLE-STRUCTURED-LOCATION;VALUE=URI;X-ADDRESS=Huntsville High School 58 Brunel Road Huntsville Ontario P1H 2A2 Canada;X-APPLE-RADIUS=500;X-TITLE=58 Brunel Road:geo:-79.213612,45.322709
END:VEVENT
BEGIN:VEVENT
DTSTART;VALUE=DATE:20190915
DTEND;VALUE=DATE:20190916
DTSTAMP:20260420T014922
CREATED:20181220T200503Z
LAST-MODIFIED:20181220T200503Z
UID:10000318-1568505600-1568591999@huntsvillelakeofbays.on.ca
SUMMARY:Terry Fox Run
DESCRIPTION:Everyone is welcome to participate in a Terry Fox Run\, regardless of age\, athletic ability or socio-economic standing. While the Run does not have an entry fee or minimum donation we do ask all participants to fundraise or make a donation. You can raise funds online\, use a pledge sheet or make a donation at the Run site. Whatever your choice\, please know that every dollar counts.
URL:https://huntsvillelakeofbays.on.ca/events/terry-fox-run/
LOCATION:Huntsville High School\, 58 Brunel Road\, Huntsville\, Ontario\, P1H 2A2\, Canada
CATEGORIES:Events Calendar,Sporting Events,Sporting Events,Tourism
GEO:45.322709;-79.213612
X-APPLE-STRUCTURED-LOCATION;VALUE=URI;X-ADDRESS=Huntsville High School 58 Brunel Road Huntsville Ontario P1H 2A2 Canada;X-APPLE-RADIUS=500;X-TITLE=58 Brunel Road:geo:-79.213612,45.322709
END:VEVENT
END:VCALENDAR