BEGIN:VCALENDAR
VERSION:2.0
PRODID:-//Huntsville &amp; Lake of Bays Chamber of Commerce - ECPv6.9.1//NONSGML v1.0//EN
CALSCALE:GREGORIAN
METHOD:PUBLISH
X-ORIGINAL-URL:https://huntsvillelakeofbays.on.ca
X-WR-CALDESC:Events for Huntsville &amp; Lake of Bays Chamber of Commerce
REFRESH-INTERVAL;VALUE=DURATION:PT1H
X-Robots-Tag:noindex
X-PUBLISHED-TTL:PT1H
BEGIN:VTIMEZONE
TZID:America/Toronto
BEGIN:DAYLIGHT
TZOFFSETFROM:-0500
TZOFFSETTO:-0400
TZNAME:EDT
DTSTART:20190310T070000
END:DAYLIGHT
BEGIN:STANDARD
TZOFFSETFROM:-0400
TZOFFSETTO:-0500
TZNAME:EST
DTSTART:20191103T060000
END:STANDARD
BEGIN:DAYLIGHT
TZOFFSETFROM:-0500
TZOFFSETTO:-0400
TZNAME:EDT
DTSTART:20200308T070000
END:DAYLIGHT
BEGIN:STANDARD
TZOFFSETFROM:-0400
TZOFFSETTO:-0500
TZNAME:EST
DTSTART:20201101T060000
END:STANDARD
BEGIN:DAYLIGHT
TZOFFSETFROM:-0500
TZOFFSETTO:-0400
TZNAME:EDT
DTSTART:20210314T070000
END:DAYLIGHT
BEGIN:STANDARD
TZOFFSETFROM:-0400
TZOFFSETTO:-0500
TZNAME:EST
DTSTART:20211107T060000
END:STANDARD
BEGIN:DAYLIGHT
TZOFFSETFROM:-0500
TZOFFSETTO:-0400
TZNAME:EDT
DTSTART:20220313T070000
END:DAYLIGHT
BEGIN:STANDARD
TZOFFSETFROM:-0400
TZOFFSETTO:-0500
TZNAME:EST
DTSTART:20221106T060000
END:STANDARD
END:VTIMEZONE
BEGIN:VEVENT
DTSTART;TZID=America/Toronto:20220831T190000
DTEND;TZID=America/Toronto:20220831T210000
DTSTAMP:20260425T195616
CREATED:20220719T181207Z
LAST-MODIFIED:20220719T181207Z
UID:10001744-1661972400-1661979600@huntsvillelakeofbays.on.ca
SUMMARY:Flood: the Overdose Epidemic in Canada
DESCRIPTION:This is a Free Event \nAugust 31 is International Overdose Awareness Day\, a global event dedicated to remembering\, without stigma\, those who have died\, and to acknowledge the grief of the family and friends left behind. It’s a time to remember and a time to act.\nTragically\, Canadian lives are being taken at an alarming rate by overdose-related deaths. Here in Simcoe Muskoka the statistics are staggering. In the past 2 years Covid has compounded the problem through isolation\, increased mental health issues\, and the increased pressure of the cost of living. There were: \n•169 confirmed and probable opioid-related deaths in Simcoe Muskoka in 2021 – 25% higher than 2020\n•282 opioid-related deaths in Simcoe Muskoka for 22 months during the pandemic – 75% higher than the 22 months prior to the start of the pandemic\nThese aren’t just stats; these number represent our neighbours\, friends and family members. \nTo align with Overdose Awareness Day\, United Way Simcoe Muskoka is hosting a documentary screening of Flood: The Overdose Epidemic in Canada\, which tells the human story behind the overdose epidemic. Following the screening will be a panel discussion with local experts and people with lived experience to shine a light further on this local crisis.
URL:https://huntsvillelakeofbays.on.ca/events/flood-the-overdose-epidemic-in-canada/
LOCATION:Algonquin Theatre\, 37 Main Street East\, Huntsville\, Ontario\, P1H 1C1\, Canada
CATEGORIES:Cultural Events,Cultural Events,Events Calendar,Tourism
ATTACH;FMTTYPE=image/png:https://huntsvillelakeofbays.on.ca/wp-content/uploads/2022/07/flood-united-way.png
GEO:45.326283;-79.2177004
X-APPLE-STRUCTURED-LOCATION;VALUE=URI;X-ADDRESS=Algonquin Theatre 37 Main Street East Huntsville Ontario P1H 1C1 Canada;X-APPLE-RADIUS=500;X-TITLE=37 Main Street East:geo:-79.2177004,45.326283
END:VEVENT
BEGIN:VEVENT
DTSTART;TZID=America/Toronto:20190925T183000
DTEND;TZID=America/Toronto:20190925T213000
DTSTAMP:20260425T195616
CREATED:20190718T151739Z
LAST-MODIFIED:20190924T144001Z
UID:10001270-1569436200-1569447000@huntsvillelakeofbays.on.ca
SUMMARY:Pain Killer: The Opioid Crisis Story
DESCRIPTION:The United Way Simcoe/Muskoka will be hosting the FREE event. \nWednesday September 25th\, 2019 – 6:30pm \nMark O’Meara Golf Course. \nCome on out for an informative evening to include watching of the movie\, followed by discussion on the crisis our community\, along with others\, are facing. \nSponsored by RBC. \n 
URL:https://huntsvillelakeofbays.on.ca/events/pain-killer-opioid-crisis-story/
LOCATION:Grandview’s Mark O’Meara Golf Course\, 245 Grandview Drive North\, Huntsville\, Ontario\, P1H 1B4\, Canada
CATEGORIES:Cultural Events,Cultural Events,Events Calendar,Tourism
ATTACH;FMTTYPE=image/jpeg:https://huntsvillelakeofbays.on.ca/wp-content/uploads/2019/07/Opioids.jpg
GEO:45.353068;-79.1684634
X-APPLE-STRUCTURED-LOCATION;VALUE=URI;X-ADDRESS=Grandview’s Mark O’Meara Golf Course 245 Grandview Drive North Huntsville Ontario P1H 1B4 Canada;X-APPLE-RADIUS=500;X-TITLE=245 Grandview Drive North:geo:-79.1684634,45.353068
END:VEVENT
END:VCALENDAR