BEGIN:VCALENDAR
VERSION:2.0
PRODID:-//Huntsville &amp; Lake of Bays Chamber of Commerce - ECPv6.9.1//NONSGML v1.0//EN
CALSCALE:GREGORIAN
METHOD:PUBLISH
X-ORIGINAL-URL:https://huntsvillelakeofbays.on.ca
X-WR-CALDESC:Events for Huntsville &amp; Lake of Bays Chamber of Commerce
REFRESH-INTERVAL;VALUE=DURATION:PT1H
X-Robots-Tag:noindex
X-PUBLISHED-TTL:PT1H
BEGIN:VTIMEZONE
TZID:America/Toronto
BEGIN:DAYLIGHT
TZOFFSETFROM:-0500
TZOFFSETTO:-0400
TZNAME:EDT
DTSTART:20220313T070000
END:DAYLIGHT
BEGIN:STANDARD
TZOFFSETFROM:-0400
TZOFFSETTO:-0500
TZNAME:EST
DTSTART:20221106T060000
END:STANDARD
END:VTIMEZONE
BEGIN:VEVENT
DTSTART;TZID=America/Toronto:20221203T113000
DTEND;TZID=America/Toronto:20221203T140000
DTSTAMP:20260425T231845
CREATED:20221128T175241Z
LAST-MODIFIED:20221128T175241Z
UID:10001877-1670067000-1670076000@huntsvillelakeofbays.on.ca
SUMMARY:Frosty Fair at Trinity United Church
DESCRIPTION:Come out to enjoy the Frosty Fair at Trinity United Church\, Huntsville on Saturday\, December 3rd from 11:30 – 2 pm. \nChoose from home baking; jams and preserves; frozen soups; chili and stews\, along with original arts and crafts\, handcrafted woodwork\, quilts\, knitting and more! \nPre-purchased Tickets ($15) for a Luncheon featuring delicious quiche\, salad\, dessert\, tea and coffee may be purchased at 705 789 5660.  Seatings at 12 or 1 pm.
URL:https://huntsvillelakeofbays.on.ca/events/frosty-fair-at-trinity-united-church/
LOCATION:Trinity United Church\, 33 Main Street East\, Huntsville\, Ontario\, P1H2B8\, Canada
CATEGORIES:Cultural Events,Cultural Events,Events Calendar,Tourism
ATTACH;FMTTYPE=image/jpeg:https://huntsvillelakeofbays.on.ca/wp-content/uploads/2022/11/2022-frosty-fair.jpg
GEO:45.3261655;-79.2180258
X-APPLE-STRUCTURED-LOCATION;VALUE=URI;X-ADDRESS=Trinity United Church 33 Main Street East Huntsville Ontario P1H2B8 Canada;X-APPLE-RADIUS=500;X-TITLE=33 Main Street East:geo:-79.2180258,45.3261655
END:VEVENT
END:VCALENDAR