BEGIN:VCALENDAR
VERSION:2.0
PRODID:-//Huntsville &amp; Lake of Bays Chamber of Commerce - ECPv6.9.1//NONSGML v1.0//EN
CALSCALE:GREGORIAN
METHOD:PUBLISH
X-ORIGINAL-URL:https://huntsvillelakeofbays.on.ca
X-WR-CALDESC:Events for Huntsville &amp; Lake of Bays Chamber of Commerce
REFRESH-INTERVAL;VALUE=DURATION:PT1H
X-Robots-Tag:noindex
X-PUBLISHED-TTL:PT1H
BEGIN:VTIMEZONE
TZID:America/Toronto
BEGIN:DAYLIGHT
TZOFFSETFROM:-0500
TZOFFSETTO:-0400
TZNAME:EDT
DTSTART:20180311T070000
END:DAYLIGHT
BEGIN:STANDARD
TZOFFSETFROM:-0400
TZOFFSETTO:-0500
TZNAME:EST
DTSTART:20181104T060000
END:STANDARD
BEGIN:DAYLIGHT
TZOFFSETFROM:-0500
TZOFFSETTO:-0400
TZNAME:EDT
DTSTART:20190310T070000
END:DAYLIGHT
BEGIN:STANDARD
TZOFFSETFROM:-0400
TZOFFSETTO:-0500
TZNAME:EST
DTSTART:20191103T060000
END:STANDARD
END:VTIMEZONE
BEGIN:VEVENT
DTSTART;VALUE=DATE:20190202
DTEND;VALUE=DATE:20190203
DTSTAMP:20260425T230030
CREATED:20180716T190049Z
LAST-MODIFIED:20190114T183053Z
UID:10000603-1549065600-1549151999@huntsvillelakeofbays.on.ca
SUMMARY:Muskoka Winter Bike Festival
DESCRIPTION:Love winter and biking? The Muskoka Winter Bike Festival is taking place on February 2nd\, 2019\, at Deerhurst Resort in Huntsville! \nThe event features a 11 km race course\, a kids race\, bonfire\, live entertainment\, beer tasting and food as well as other fun trails to ride. This family friendly event will welcome cycle enthusiasts from throughout Ontario and beyond. Ride all day and enjoy special rates at Deerhurst Resort.
URL:https://huntsvillelakeofbays.on.ca/events/muskoka-winter-bike-festival-2/
LOCATION:Deerhurst Resort\, 1235 Deerhurst Drive\, Huntsville\, Ontario\, P1H 2E8\, Canada
CATEGORIES:Cultural Events,Cultural Events,Events Calendar,Tourism
ATTACH;FMTTYPE=image/jpeg:https://huntsvillelakeofbays.on.ca/wp-content/uploads/2018/01/Fatbike-2.jpg
ORGANIZER;CN="%E2%80%8BThe Bike Shop in Huntsville":MAILTO:ride@thebikeshops.ca
GEO:45.3468553;-79.1320601
X-APPLE-STRUCTURED-LOCATION;VALUE=URI;X-ADDRESS=Deerhurst Resort 1235 Deerhurst Drive Huntsville Ontario P1H 2E8 Canada;X-APPLE-RADIUS=500;X-TITLE=1235 Deerhurst Drive:geo:-79.1320601,45.3468553
END:VEVENT
BEGIN:VEVENT
DTSTART;VALUE=DATE:20180210
DTEND;VALUE=DATE:20180211
DTSTAMP:20260425T230030
CREATED:20180102T153125Z
LAST-MODIFIED:20181216T182546Z
UID:10000315-1518220800-1518307199@huntsvillelakeofbays.on.ca
SUMMARY:The Muskoka Winter Bike Festival
DESCRIPTION:Love winter and biking? The Muskoka Winter Bike Festival is taking place on February 10th\, 2018\, at Deerhurst Resort in Huntsville\, Ontario. The event features a 11 km race course\, a kids race\, bonfire\, live entertainment\, beer tasting and food as well as other fun trails to ride. This family friendly event will welcome cycle enthusiasts from throughout Ontario and beyond. Ride all day and enjoy special rates at Deerhurst Resort. Registration information can be found here.
URL:https://huntsvillelakeofbays.on.ca/events/muskoka-winter-bike-festival/
LOCATION:Deerhurst Resort\, 1235 Deerhurst Drive\, Huntsville\, Ontario\, P1H 2E8\, Canada
CATEGORIES:Tourism
ATTACH;FMTTYPE=image/jpeg:https://huntsvillelakeofbays.on.ca/wp-content/uploads/2016/12/KEL_5137-1.jpg
ORGANIZER;CN="%E2%80%8BThe Bike Shop in Huntsville":MAILTO:ride@thebikeshops.ca
GEO:45.3468553;-79.1320601
X-APPLE-STRUCTURED-LOCATION;VALUE=URI;X-ADDRESS=Deerhurst Resort 1235 Deerhurst Drive Huntsville Ontario P1H 2E8 Canada;X-APPLE-RADIUS=500;X-TITLE=1235 Deerhurst Drive:geo:-79.1320601,45.3468553
END:VEVENT
END:VCALENDAR