BEGIN:VCALENDAR
VERSION:2.0
PRODID:-//Huntsville &amp; Lake of Bays Chamber of Commerce - ECPv6.9.1//NONSGML v1.0//EN
CALSCALE:GREGORIAN
METHOD:PUBLISH
X-WR-CALNAME:Huntsville &amp; Lake of Bays Chamber of Commerce
X-ORIGINAL-URL:https://huntsvillelakeofbays.on.ca
X-WR-CALDESC:Events for Huntsville &amp; Lake of Bays Chamber of Commerce
REFRESH-INTERVAL;VALUE=DURATION:PT1H
X-Robots-Tag:noindex
X-PUBLISHED-TTL:PT1H
BEGIN:VTIMEZONE
TZID:America/Toronto
BEGIN:DAYLIGHT
TZOFFSETFROM:-0500
TZOFFSETTO:-0400
TZNAME:EDT
DTSTART:20190310T070000
END:DAYLIGHT
BEGIN:STANDARD
TZOFFSETFROM:-0400
TZOFFSETTO:-0500
TZNAME:EST
DTSTART:20191103T060000
END:STANDARD
END:VTIMEZONE
BEGIN:VEVENT
DTSTART;TZID=America/Toronto:20190625T180000
DTEND;TZID=America/Toronto:20190625T200000
DTSTAMP:20260425T202651
CREATED:20190611T171655Z
LAST-MODIFIED:20190611T172600Z
UID:10001069-1561485600-1561492800@huntsvillelakeofbays.on.ca
SUMMARY:Tuesday Bike Night
DESCRIPTION:Join us for our 27th year Adult Mountain Bike Ride\, every Tuesday evening all summer long\, everyone’s welcome. \nExplore some of the places to ride in the local area with this no drop group of riders. Bring your own mountain bike and helmet to participate. Bike rentals are available if you book ahead. \nMuskoka’s rolling hills and rugged trails are your playground for mountain and road bike adventures. Many people realize that Muskoka and Algonquin Park offer some of the best mountain bike trails in Canada but few realize that Muskoka also hosts some great road biking opportunities. \nFor Cancellations due to weather please call 705-787-0262 or check our Facebook Page Events. \n\nFor more information contact: \nAlgonquin Outfitters\n86 Main Street East\nHuntsville\, ON\, P1H 2C7\n705-787-0262\nbikes@algonquinoutfitters.com\nGPS location: 45.3278°\, -79.2159°\nPhone: 705-787-0262 x24
URL:https://huntsvillelakeofbays.on.ca/events/tuesday-bike-night/2019-06-25/
LOCATION:Algonquin Outfitters\, 86 Main St E\, Huntsville\, Ontario\, P1H 2C7\, Canada
CATEGORIES:Events Calendar,Sporting Events,Sporting Events,Tourism
ATTACH;FMTTYPE=image/jpeg:https://huntsvillelakeofbays.on.ca/wp-content/uploads/2019/06/Bike-Night.jpg
GEO:45.3273512;-79.2164517
X-APPLE-STRUCTURED-LOCATION;VALUE=URI;X-ADDRESS=Algonquin Outfitters 86 Main St E Huntsville Ontario P1H 2C7 Canada;X-APPLE-RADIUS=500;X-TITLE=86 Main St E:geo:-79.2164517,45.3273512
END:VEVENT
BEGIN:VEVENT
DTSTART;TZID=America/Toronto:20190618T180000
DTEND;TZID=America/Toronto:20190618T200000
DTSTAMP:20260425T202651
CREATED:20190611T171655Z
LAST-MODIFIED:20190611T172600Z
UID:10001068-1560880800-1560888000@huntsvillelakeofbays.on.ca
SUMMARY:Tuesday Bike Night
DESCRIPTION:Join us for our 27th year Adult Mountain Bike Ride\, every Tuesday evening all summer long\, everyone’s welcome. \nExplore some of the places to ride in the local area with this no drop group of riders. Bring your own mountain bike and helmet to participate. Bike rentals are available if you book ahead. \nMuskoka’s rolling hills and rugged trails are your playground for mountain and road bike adventures. Many people realize that Muskoka and Algonquin Park offer some of the best mountain bike trails in Canada but few realize that Muskoka also hosts some great road biking opportunities. \nFor Cancellations due to weather please call 705-787-0262 or check our Facebook Page Events. \n\nFor more information contact: \nAlgonquin Outfitters\n86 Main Street East\nHuntsville\, ON\, P1H 2C7\n705-787-0262\nbikes@algonquinoutfitters.com\nGPS location: 45.3278°\, -79.2159°\nPhone: 705-787-0262 x24
URL:https://huntsvillelakeofbays.on.ca/events/tuesday-bike-night/2019-06-18/
LOCATION:Algonquin Outfitters\, 86 Main St E\, Huntsville\, Ontario\, P1H 2C7\, Canada
CATEGORIES:Events Calendar,Sporting Events,Sporting Events,Tourism
ATTACH;FMTTYPE=image/jpeg:https://huntsvillelakeofbays.on.ca/wp-content/uploads/2019/06/Bike-Night.jpg
GEO:45.3273512;-79.2164517
X-APPLE-STRUCTURED-LOCATION;VALUE=URI;X-ADDRESS=Algonquin Outfitters 86 Main St E Huntsville Ontario P1H 2C7 Canada;X-APPLE-RADIUS=500;X-TITLE=86 Main St E:geo:-79.2164517,45.3273512
END:VEVENT
BEGIN:VEVENT
DTSTART;VALUE=DATE:20190615
DTEND;VALUE=DATE:20190617
DTSTAMP:20260425T202651
CREATED:20181220T185925Z
LAST-MODIFIED:20181220T190029Z
UID:10000704-1560556800-1560729599@huntsvillelakeofbays.on.ca
SUMMARY:Muskoka River X - The Ox Weekend
DESCRIPTION:Paddle the beautiful and quiet waters of Oxtongue Lake and Oxtongue River. Enjoy two full days of racing. On day one\, go head-to-head within a high intensity short course format in which pairs of teams face off against each other. On day two\, race a 10km sprint\, 30km tri-paddle or 40km marathon event. During the evening\, relax and enjoy family and friends at a BBQ Feast. There are categories and options for everyone. \nLocated on the edge of Oxtongue Provincial Park and just east of Algonquin Provincial Park\, Oxtongue Lake and River is the perfect location for water sport racing. With protected and quiet waters and spectacular scenery\, THE OX offers a spectator-friendly short course stadium and 10km marathon loop. The site is well serviced with accommodations\, basic provisions and is hosted at Algonquin Outfitters’ premier backcountry base-camp. Oxtongue Lake is the quintessential Canadian paddling destination. \n\nBattle of the Paddle\nSaturday June 15\, 2019 \nEnjoy head-to-head\, high intensity short course racing in which pairs of teams face off against each other in a double-elimination format. Each team races at least twice per event. First round pairs are randomly drawn. Race One is for seeding. Race Two starts the elimination. Teams keep progressing to the next round as long as they keep winning. The last winning team is the winner. Canoe classes are a “ONE DESIGN” event\, meaning all teams will paddle a standardized watercraft provided by race management. Participate in as many events as you are eligible. Awards will be presented at Algonquin Outfitters THE OX banquet on Saturday evening. \n\nSprint\, Tri-Paddle and Marathon\nSunday June 16\, 2019 \nSprint and Marathon racing in which teams paddle a 10km loop on Oxtongue Lake and the Oxtongue River. Teams complete as many loops as necessary to reach the total distance in each event. Teams may resupply nutrition/hydration/supplies at the designated “feeding station” upon the completion of each loop\, located at the start-finish line. Support teams are encouraged!
URL:https://huntsvillelakeofbays.on.ca/events/muskoka-river-x-ox-weekend/
LOCATION:Algonquin Outfitters\, 86 Main St E\, Huntsville\, Ontario\, P1H 2C7\, Canada
CATEGORIES:Events Calendar,Sporting Events,Sporting Events,Tourism
GEO:45.3273512;-79.2164517
X-APPLE-STRUCTURED-LOCATION;VALUE=URI;X-ADDRESS=Algonquin Outfitters 86 Main St E Huntsville Ontario P1H 2C7 Canada;X-APPLE-RADIUS=500;X-TITLE=86 Main St E:geo:-79.2164517,45.3273512
END:VEVENT
BEGIN:VEVENT
DTSTART;TZID=America/Toronto:20190611T180000
DTEND;TZID=America/Toronto:20190611T200000
DTSTAMP:20260425T202651
CREATED:20190611T171655Z
LAST-MODIFIED:20190611T172600Z
UID:10001067-1560276000-1560283200@huntsvillelakeofbays.on.ca
SUMMARY:Tuesday Bike Night
DESCRIPTION:Join us for our 27th year Adult Mountain Bike Ride\, every Tuesday evening all summer long\, everyone’s welcome. \nExplore some of the places to ride in the local area with this no drop group of riders. Bring your own mountain bike and helmet to participate. Bike rentals are available if you book ahead. \nMuskoka’s rolling hills and rugged trails are your playground for mountain and road bike adventures. Many people realize that Muskoka and Algonquin Park offer some of the best mountain bike trails in Canada but few realize that Muskoka also hosts some great road biking opportunities. \nFor Cancellations due to weather please call 705-787-0262 or check our Facebook Page Events. \n\nFor more information contact: \nAlgonquin Outfitters\n86 Main Street East\nHuntsville\, ON\, P1H 2C7\n705-787-0262\nbikes@algonquinoutfitters.com\nGPS location: 45.3278°\, -79.2159°\nPhone: 705-787-0262 x24
URL:https://huntsvillelakeofbays.on.ca/events/tuesday-bike-night/2019-06-11/
LOCATION:Algonquin Outfitters\, 86 Main St E\, Huntsville\, Ontario\, P1H 2C7\, Canada
CATEGORIES:Events Calendar,Sporting Events,Sporting Events,Tourism
ATTACH;FMTTYPE=image/jpeg:https://huntsvillelakeofbays.on.ca/wp-content/uploads/2019/06/Bike-Night.jpg
GEO:45.3273512;-79.2164517
X-APPLE-STRUCTURED-LOCATION;VALUE=URI;X-ADDRESS=Algonquin Outfitters 86 Main St E Huntsville Ontario P1H 2C7 Canada;X-APPLE-RADIUS=500;X-TITLE=86 Main St E:geo:-79.2164517,45.3273512
END:VEVENT
END:VCALENDAR