BEGIN:VCALENDAR
VERSION:2.0
PRODID:-//Huntsville &amp; Lake of Bays Chamber of Commerce - ECPv6.9.1//NONSGML v1.0//EN
CALSCALE:GREGORIAN
METHOD:PUBLISH
X-ORIGINAL-URL:https://huntsvillelakeofbays.on.ca
X-WR-CALDESC:Events for Huntsville &amp; Lake of Bays Chamber of Commerce
REFRESH-INTERVAL;VALUE=DURATION:PT1H
X-Robots-Tag:noindex
X-PUBLISHED-TTL:PT1H
BEGIN:VTIMEZONE
TZID:America/Toronto
BEGIN:DAYLIGHT
TZOFFSETFROM:-0500
TZOFFSETTO:-0400
TZNAME:EDT
DTSTART:20170312T070000
END:DAYLIGHT
BEGIN:STANDARD
TZOFFSETFROM:-0400
TZOFFSETTO:-0500
TZNAME:EST
DTSTART:20171105T060000
END:STANDARD
BEGIN:DAYLIGHT
TZOFFSETFROM:-0500
TZOFFSETTO:-0400
TZNAME:EDT
DTSTART:20180311T070000
END:DAYLIGHT
BEGIN:STANDARD
TZOFFSETFROM:-0400
TZOFFSETTO:-0500
TZNAME:EST
DTSTART:20181104T060000
END:STANDARD
BEGIN:DAYLIGHT
TZOFFSETFROM:-0500
TZOFFSETTO:-0400
TZNAME:EDT
DTSTART:20190310T070000
END:DAYLIGHT
BEGIN:STANDARD
TZOFFSETFROM:-0400
TZOFFSETTO:-0500
TZNAME:EST
DTSTART:20191103T060000
END:STANDARD
BEGIN:DAYLIGHT
TZOFFSETFROM:-0500
TZOFFSETTO:-0400
TZNAME:EDT
DTSTART:20200308T070000
END:DAYLIGHT
BEGIN:STANDARD
TZOFFSETFROM:-0400
TZOFFSETTO:-0500
TZNAME:EST
DTSTART:20201101T060000
END:STANDARD
BEGIN:DAYLIGHT
TZOFFSETFROM:-0500
TZOFFSETTO:-0400
TZNAME:EDT
DTSTART:20210314T070000
END:DAYLIGHT
BEGIN:STANDARD
TZOFFSETFROM:-0400
TZOFFSETTO:-0500
TZNAME:EST
DTSTART:20211107T060000
END:STANDARD
BEGIN:DAYLIGHT
TZOFFSETFROM:-0500
TZOFFSETTO:-0400
TZNAME:EDT
DTSTART:20220313T070000
END:DAYLIGHT
BEGIN:STANDARD
TZOFFSETFROM:-0400
TZOFFSETTO:-0500
TZNAME:EST
DTSTART:20221106T060000
END:STANDARD
END:VTIMEZONE
BEGIN:VEVENT
DTSTART;TZID=America/Toronto:20220910T190000
DTEND;TZID=America/Toronto:20220910T220000
DTSTAMP:20260425T131813
CREATED:20220902T161142Z
LAST-MODIFIED:20220902T161142Z
UID:10001047-1662836400-1662847200@huntsvillelakeofbays.on.ca
SUMMARY:Celebrating Algonquin Park
DESCRIPTION:Join us for an intimate evening of presentations on the beauty and magic of Algonquin Park and the Canadian wilderness. This unique evening will include an opportunity to meet the presenters\, silent auction\, door prizes and refreshments. This evening is brought to you by The Friends of Algonquin Park in support of Algonquin Park’s educational programs. Admission and pre-registration is required and seating is limited. \nFor tickets and additional details see https://algonquinpark.on.ca/news/celebrating_algonquin_park.php
URL:https://huntsvillelakeofbays.on.ca/events/celebrating-algonquin-park/
LOCATION:Algonquin Provincial Park\, Ontario 60\, Nipissing\, Ontario\, K0J 2M0\, Canada
CATEGORIES:Cultural Events,Cultural Events,Events Calendar,Tourism
ATTACH;FMTTYPE=image/jpeg:https://huntsvillelakeofbays.on.ca/wp-content/uploads/2016/12/Maligne-Lake-16.jpg
GEO:45.5088018;-78.2585811
X-APPLE-STRUCTURED-LOCATION;VALUE=URI;X-ADDRESS=Algonquin Provincial Park Ontario 60 Nipissing Ontario K0J 2M0 Canada;X-APPLE-RADIUS=500;X-TITLE=Ontario 60:geo:-78.2585811,45.5088018
END:VEVENT
BEGIN:VEVENT
DTSTART;TZID=America/Toronto:20220831T200000
DTEND;TZID=America/Toronto:20220831T220000
DTSTAMP:20260425T131813
CREATED:20220819T193435Z
LAST-MODIFIED:20220819T193435Z
UID:10001766-1661976000-1661983200@huntsvillelakeofbays.on.ca
SUMMARY:A Night of Wolves
DESCRIPTION:New special event. Wolves have a story to tell – and its one you won’t want to miss. Join Ontario Parks Discovery Program staff in this exclusive experience. Spend an evening in the Visitor Centre exploring the lives of wolves in Algonquin Park. Participants must sign up using the QR code. See the Night of Wolves poster for more details or at https://signup.com/go/KjNDJKz or https://signup.com/mobileweb/2.0/vspot.html?activitykey=10870150406410760115 \nRegistration opens for this event on August 13\, 2022.
URL:https://huntsvillelakeofbays.on.ca/events/a-night-of-wolves/2022-08-31/
LOCATION:Algonquin Provincial Park\, Ontario 60\, Nipissing\, Ontario\, K0J 2M0\, Canada
CATEGORIES:Cultural Events,Cultural Events,Events Calendar,Tourism
ATTACH;FMTTYPE=image/jpeg:https://huntsvillelakeofbays.on.ca/wp-content/uploads/2022/08/blog-alongquin-park-wolf-howls-2-1920x1080-1.jpg
GEO:45.5088018;-78.2585811
X-APPLE-STRUCTURED-LOCATION;VALUE=URI;X-ADDRESS=Algonquin Provincial Park Ontario 60 Nipissing Ontario K0J 2M0 Canada;X-APPLE-RADIUS=500;X-TITLE=Ontario 60:geo:-78.2585811,45.5088018
END:VEVENT
BEGIN:VEVENT
DTSTART;TZID=America/Toronto:20220825T200000
DTEND;TZID=America/Toronto:20220825T220000
DTSTAMP:20260425T131813
CREATED:20220819T193435Z
LAST-MODIFIED:20220819T193435Z
UID:10001765-1661457600-1661464800@huntsvillelakeofbays.on.ca
SUMMARY:A Night of Wolves
DESCRIPTION:New special event. Wolves have a story to tell – and its one you won’t want to miss. Join Ontario Parks Discovery Program staff in this exclusive experience. Spend an evening in the Visitor Centre exploring the lives of wolves in Algonquin Park. Participants must sign up using the QR code. See the Night of Wolves poster for more details or at https://signup.com/go/KjNDJKz or https://signup.com/mobileweb/2.0/vspot.html?activitykey=10870150406410760115 \nRegistration opens for this event on August 13\, 2022.
URL:https://huntsvillelakeofbays.on.ca/events/a-night-of-wolves/2022-08-25/
LOCATION:Algonquin Provincial Park\, Ontario 60\, Nipissing\, Ontario\, K0J 2M0\, Canada
CATEGORIES:Cultural Events,Cultural Events,Events Calendar,Tourism
ATTACH;FMTTYPE=image/jpeg:https://huntsvillelakeofbays.on.ca/wp-content/uploads/2022/08/blog-alongquin-park-wolf-howls-2-1920x1080-1.jpg
GEO:45.5088018;-78.2585811
X-APPLE-STRUCTURED-LOCATION;VALUE=URI;X-ADDRESS=Algonquin Provincial Park Ontario 60 Nipissing Ontario K0J 2M0 Canada;X-APPLE-RADIUS=500;X-TITLE=Ontario 60:geo:-78.2585811,45.5088018
END:VEVENT
BEGIN:VEVENT
DTSTART;TZID=America/Toronto:20220728T090000
DTEND;TZID=America/Toronto:20220728T150000
DTSTAMP:20260425T131813
CREATED:20220721T161313Z
LAST-MODIFIED:20220721T161313Z
UID:10001751-1658998800-1659020400@huntsvillelakeofbays.on.ca
SUMMARY:Meet the Researcher Day
DESCRIPTION:The Friends of Algonquin Park and the Algonquin Wildlife Research Station invites you to spend time with researchers who use Algonquin Park as their laboratory. Meet those who study reptiles and amphibians\, birds\, small mammals\, fish\, wolves\, and even humans (through archaeology). \nA fundraising barbecue (noon to 2:00pm\, or while quantities last) is hosted by The Friends of Algonquin Park in support of research in the Park\, and free draws take place for great prizes generously donated by local businesses and organizations. Suitable for all ages. \nThis event is brought to you by The Friends of Algonquin Park\, and associated partners\, as one of summer’s Special Events. See images of Meet the Researcher Day on Facebook.
URL:https://huntsvillelakeofbays.on.ca/events/meet-the-researcher-day/
LOCATION:Algonquin Provincial Park\, Ontario 60\, Nipissing\, Ontario\, K0J 2M0\, Canada
CATEGORIES:Cultural Events,Cultural Events,Events Calendar,Tourism
ATTACH;FMTTYPE=image/jpeg:https://huntsvillelakeofbays.on.ca/wp-content/uploads/2022/07/meet-the-researcher.jpg
GEO:45.5088018;-78.2585811
X-APPLE-STRUCTURED-LOCATION;VALUE=URI;X-ADDRESS=Algonquin Provincial Park Ontario 60 Nipissing Ontario K0J 2M0 Canada;X-APPLE-RADIUS=500;X-TITLE=Ontario 60:geo:-78.2585811,45.5088018
END:VEVENT
BEGIN:VEVENT
DTSTART;TZID=America/Toronto:20220724T190000
DTEND;TZID=America/Toronto:20220724T210000
DTSTAMP:20260425T131813
CREATED:20220719T210654Z
LAST-MODIFIED:20220719T210901Z
UID:10001748-1658689200-1658696400@huntsvillelakeofbays.on.ca
SUMMARY:Wakami Wailers Concert
DESCRIPTION:The award winning Wakami Wailers are scheduled to play an open air concert at Algonquin Park’s Outdoor Theatre. The Ontario-based Wakami Wailers will get your toes tapping through lively music sharing Canada’s logging history\, park and protected areas\, plus much more. Join the Wailers for a fun-filled evening of entertaining stories and songs from their popular releases – The Last of the White Pine Loggers\, Waltz With the Woods\, and River Through the Pines. For more information see http://www.algonquinpark.on.ca/news/wakami_wailers.php \nThe Wakami Wailers are also scheduled to play at Loggers Day on Saturday\, July 23\, 2022 at the Algonquin Logging Museum. \nThis concert is brought to you by The Friends of Algonquin Park as one of summer’s Special Events. Admission to this event is a minimum donation of $2 per person.
URL:https://huntsvillelakeofbays.on.ca/events/wakami-wailers-concert-2/
LOCATION:Algonquin Provincial Park\, Ontario 60\, Nipissing\, Ontario\, K0J 2M0\, Canada
CATEGORIES:Cultural Events,Cultural Events,Events Calendar,Tourism
ATTACH;FMTTYPE=image/jpeg:https://huntsvillelakeofbays.on.ca/wp-content/uploads/2022/07/wakami_wailers2.jpg
GEO:45.5088018;-78.2585811
X-APPLE-STRUCTURED-LOCATION;VALUE=URI;X-ADDRESS=Algonquin Provincial Park Ontario 60 Nipissing Ontario K0J 2M0 Canada;X-APPLE-RADIUS=500;X-TITLE=Ontario 60:geo:-78.2585811,45.5088018
END:VEVENT
BEGIN:VEVENT
DTSTART;TZID=America/Toronto:20220723T100000
DTEND;TZID=America/Toronto:20220723T150000
DTSTAMP:20260425T131813
CREATED:20220719T210120Z
LAST-MODIFIED:20220721T161518Z
UID:10001749-1658570400-1658588400@huntsvillelakeofbays.on.ca
SUMMARY:Loggers Day at Algonquin Park
DESCRIPTION:Join us for this highly entertaining and educational day when the Algonquin Logging Museum comes to life. Brought to you by The Friends of Algonquin Park\, the Algonquin Forestry Authority\, in cooperation with Ontario Parks. \nTake in the demonstrations around the Logging Museum trail and try the old-time loggers’ lunch served in the sawlog cookery from 12:00 to 2:00 pm\, or while quantities last. Also listen to the music of the Wakami Wailers throughout the day. For more information see http://www.algonquinpark.on.ca/news/loggers_day.php  See previous images on Facebook. \nAdmission to this event is a minimum donation of $2 per person. This event is brought to you by The Friends of Algonquin Park\, and associated partners\, as one of summer’s Special Events.
URL:https://huntsvillelakeofbays.on.ca/events/loggers-day-at-algonquin-park/
LOCATION:Algonquin Provincial Park\, Ontario 60\, Nipissing\, Ontario\, K0J 2M0\, Canada
CATEGORIES:Cultural Events,Cultural Events,Events Calendar,Tourism
ATTACH;FMTTYPE=image/jpeg:https://huntsvillelakeofbays.on.ca/wp-content/uploads/2022/07/loggers-day-ap-1.jpg
GEO:45.5088018;-78.2585811
X-APPLE-STRUCTURED-LOCATION;VALUE=URI;X-ADDRESS=Algonquin Provincial Park Ontario 60 Nipissing Ontario K0J 2M0 Canada;X-APPLE-RADIUS=500;X-TITLE=Ontario 60:geo:-78.2585811,45.5088018
END:VEVENT
BEGIN:VEVENT
DTSTART;VALUE=DATE:20200215
DTEND;VALUE=DATE:20200216
DTSTAMP:20260425T131813
CREATED:20200116T162222Z
LAST-MODIFIED:20200116T162300Z
UID:10001356-1581724800-1581811199@huntsvillelakeofbays.on.ca
SUMMARY:Winter in the Wild Festival
DESCRIPTION:Join us to share your love of Algonquin Park in winter.\nThe Friends of Algonquin Park and Ontario Parks are proud to announce Winter in the Wild Festival happening in Algonquin Park on February 15\, 2020 (Family Day Weekend). This family event celebrates Algonquin Park in winter. \nThis festival celebrates winter in Algonquin Park through indoor and outdoor events held at various locations throughout the Highway 60 Corridor of Algonquin Park\, including many at the Algonquin Visitor Centre. All of the activities during the Festival are free with the purchase of a Daily Vehicle Permit or Camping Permit (with the exception of food).
URL:https://huntsvillelakeofbays.on.ca/events/winter-wild-festival-3/
LOCATION:Algonquin Provincial Park\, Ontario 60\, Nipissing\, Ontario\, K0J 2M0\, Canada
CATEGORIES:Cultural Events,Cultural Events,Events Calendar,Tourism
ATTACH;FMTTYPE=image/jpeg:https://huntsvillelakeofbays.on.ca/wp-content/uploads/2017/11/Winter-in-the-Wild.jpg
GEO:45.5088018;-78.2585811
X-APPLE-STRUCTURED-LOCATION;VALUE=URI;X-ADDRESS=Algonquin Provincial Park Ontario 60 Nipissing Ontario K0J 2M0 Canada;X-APPLE-RADIUS=500;X-TITLE=Ontario 60:geo:-78.2585811,45.5088018
END:VEVENT
BEGIN:VEVENT
DTSTART;TZID=America/Toronto:20190801T090000
DTEND;TZID=America/Toronto:20190801T150000
DTSTAMP:20260425T131813
CREATED:20190715T183920Z
LAST-MODIFIED:20190715T183920Z
UID:10001252-1564650000-1564671600@huntsvillelakeofbays.on.ca
SUMMARY:11th Annual Meet the Researcher Day
DESCRIPTION:11th Annual Meet the Researcher Day \nThursday\, August 1\, 2019 9 a.m. to 3 p.m. – at the East Beach Picnic Pavilion \n(km 35.4 on Hwy 60). \nAlgonquin’s Wildlife Research Station invites you to spend time with researchers who use Algonquin Park as their laboratory.  Meet those who study reptiles and amphibians\, birds\, small mammals\, fish\, wolves and even humans (through Archaeology). \nA barbeque (noon to 2 p.m.\, or while quantities last) is hosted by The Friends of Algonquin Park in support of research in the Park. \nFree draws take place for great prizes generously donated by local businesses and organizations. This event is suitable for all ages. \nValid Day Use Permit or Camping Permit required.
URL:https://huntsvillelakeofbays.on.ca/events/11th-annual-meet-researcher-day/
LOCATION:Algonquin Provincial Park\, Ontario 60\, Nipissing\, Ontario\, K0J 2M0\, Canada
CATEGORIES:Cultural Events,Tourism
ATTACH;FMTTYPE=image/jpeg:https://huntsvillelakeofbays.on.ca/wp-content/uploads/2019/07/11th-Annual-Research-Day.jpg
GEO:45.5088018;-78.2585811
X-APPLE-STRUCTURED-LOCATION;VALUE=URI;X-ADDRESS=Algonquin Provincial Park Ontario 60 Nipissing Ontario K0J 2M0 Canada;X-APPLE-RADIUS=500;X-TITLE=Ontario 60:geo:-78.2585811,45.5088018
END:VEVENT
BEGIN:VEVENT
DTSTART;TZID=America/Toronto:20190728T190000
DTEND;TZID=America/Toronto:20190728T220000
DTSTAMP:20260425T131813
CREATED:20190715T184540Z
LAST-MODIFIED:20190715T184540Z
UID:10001253-1564340400-1564351200@huntsvillelakeofbays.on.ca
SUMMARY:Wakami Wailers Concert
DESCRIPTION:Wakami Wailers Concert \nSunday\, July 28\, 2019 7 p.m. – The award winning Wakami Wailers are scheduled to play an open-air concert at Algonquin Park’s Outdoor Theatre at km 35.4 on Hwy 60. \nThe Ontario-based Wakami Wailers will get your toes tapping through lively music sharing Canada’s logging history\, park and protected areas\, plus much more. Join the Wailers for a fun-filled evening of entertaining stories and songs from their popular releases – The Last of the White Pine Loggers\, Waltz With the Woods\, and River Through the Pines. \nThis concert is brought to you by The Friends of Algonquin Park.  Admission is a minimum donation of $2.00 per person. Valid Day Use Permit or Camping Permit required.
URL:https://huntsvillelakeofbays.on.ca/events/wakami-wailers-concert/
LOCATION:Algonquin Provincial Park\, Ontario 60\, Nipissing\, Ontario\, K0J 2M0\, Canada
CATEGORIES:Cultural Events,Tourism
ATTACH;FMTTYPE=image/jpeg:https://huntsvillelakeofbays.on.ca/wp-content/uploads/2019/07/The-Wakami-Wailers-Concert.jpg
GEO:45.5088018;-78.2585811
X-APPLE-STRUCTURED-LOCATION;VALUE=URI;X-ADDRESS=Algonquin Provincial Park Ontario 60 Nipissing Ontario K0J 2M0 Canada;X-APPLE-RADIUS=500;X-TITLE=Ontario 60:geo:-78.2585811,45.5088018
END:VEVENT
BEGIN:VEVENT
DTSTART;TZID=America/Toronto:20190727T100000
DTEND;TZID=America/Toronto:20190727T150000
DTSTAMP:20260425T131813
CREATED:20190715T183628Z
LAST-MODIFIED:20190715T183628Z
UID:10001250-1564221600-1564239600@huntsvillelakeofbays.on.ca
SUMMARY:Loggers Day
DESCRIPTION:Loggers Day \nSaturday\, July 27\, 2019 10 a.m. to 3 p.m. – at the Algonquin Logging Museum \n(km 54.5 on Hwy 60). Cost is $2 per person (plus your valid Day Use or Camping Permit). \nJoin us for this highly entertaining and educational day when the Algonquin Logging Museum comes to life. Enjoy music from the Wakami Wailers\, take in the demonstrations and try the old-time loggers’ lunch ($10.00) served in the sawlog cookery from 12 to 2 p.m. (or while quantities last).
URL:https://huntsvillelakeofbays.on.ca/events/loggers-day/
LOCATION:Algonquin Provincial Park\, Ontario 60\, Nipissing\, Ontario\, K0J 2M0\, Canada
CATEGORIES:Cultural Events,Tourism
ATTACH;FMTTYPE=image/jpeg:https://huntsvillelakeofbays.on.ca/wp-content/uploads/2019/07/Loggers-Day-Poster-2019.jpg
GEO:45.5088018;-78.2585811
X-APPLE-STRUCTURED-LOCATION;VALUE=URI;X-ADDRESS=Algonquin Provincial Park Ontario 60 Nipissing Ontario K0J 2M0 Canada;X-APPLE-RADIUS=500;X-TITLE=Ontario 60:geo:-78.2585811,45.5088018
END:VEVENT
BEGIN:VEVENT
DTSTART;TZID=America/Toronto:20190216T100000
DTEND;TZID=America/Toronto:20190216T200000
DTSTAMP:20260425T131813
CREATED:20180716T200615Z
LAST-MODIFIED:20190204T200704Z
UID:10000606-1550311200-1550347200@huntsvillelakeofbays.on.ca
SUMMARY:Winter in the Wild Festival
DESCRIPTION:Join us in Algonquin Park February 16th on Family Day Weekend for our 8th Annual Winter in the Wild Festival! \nThis is a family-friendly event with a wide variety of activities\, including snowshoeing\, winter bird walks\, ice-skating\, marshmallow roasting\, winter camping demonstrations and more! Activities take place at various locations throughout the Highway 60 Corridor of Algonquin Park including Mew Lake and the Algonquin Visitor Centre. \nAll of the activities during the Festival are free with the purchase of valid Park permit\, with the exception of food. For more information please visit our website at www.algonquinpark.on.ca.
URL:https://huntsvillelakeofbays.on.ca/events/winter-wild-festival-2/
LOCATION:Algonquin Provincial Park\, Ontario 60\, Nipissing\, Ontario\, K0J 2M0\, Canada
CATEGORIES:Cultural Events,Cultural Events,Events Calendar,Tourism
ATTACH;FMTTYPE=image/jpeg:https://huntsvillelakeofbays.on.ca/wp-content/uploads/2017/11/Winter-in-the-Wild.jpg
GEO:45.5088018;-78.2585811
X-APPLE-STRUCTURED-LOCATION;VALUE=URI;X-ADDRESS=Algonquin Provincial Park Ontario 60 Nipissing Ontario K0J 2M0 Canada;X-APPLE-RADIUS=500;X-TITLE=Ontario 60:geo:-78.2585811,45.5088018
END:VEVENT
BEGIN:VEVENT
DTSTART;VALUE=DATE:20180217
DTEND;VALUE=DATE:20180218
DTSTAMP:20260425T131813
CREATED:20171114T160752Z
LAST-MODIFIED:20181216T182548Z
UID:10000119-1518825600-1518911999@huntsvillelakeofbays.on.ca
SUMMARY:Winter in the Wild Festival
DESCRIPTION:  \nJoin us in Algonquin Park on February 17th on Family Day Weekend for our 7th Annual Winter in the Wild Festival. \nThis is a family-friendly event with a wide variety of activities\, including snowshoeing\, tracking\, winter bird walks\, ice-skating\, campfires with marshmallow roasting\, winter camping demonstrations and more! Activities take place at Mew Lake and the Algonquin Park Visitor Centre. \nAll of the activities during the Festival are free with the purchase of valid Park permit\, with the exception of food. For more information please visit our website at www.algonquinpark.on.ca.
URL:https://huntsvillelakeofbays.on.ca/events/winter-wild-festival/
LOCATION:Algonquin Provincial Park\, Ontario 60\, Nipissing\, Ontario\, K0J 2M0\, Canada
CATEGORIES:Tourism
ATTACH;FMTTYPE=image/jpeg:https://huntsvillelakeofbays.on.ca/wp-content/uploads/2017/11/Winter-in-the-Wild.jpg
GEO:45.5088018;-78.2585811
X-APPLE-STRUCTURED-LOCATION;VALUE=URI;X-ADDRESS=Algonquin Provincial Park Ontario 60 Nipissing Ontario K0J 2M0 Canada;X-APPLE-RADIUS=500;X-TITLE=Ontario 60:geo:-78.2585811,45.5088018
END:VEVENT
BEGIN:VEVENT
DTSTART;VALUE=DATE:20171027
DTEND;VALUE=DATE:20171029
DTSTAMP:20260425T131813
CREATED:20170825T152637Z
LAST-MODIFIED:20181216T182451Z
UID:10000234-1509062400-1509235199@huntsvillelakeofbays.on.ca
SUMMARY:Haunted Halloween Weekend in Algonquin Park
DESCRIPTION:The fun begins on Friday night with our owl prowl\, that is sure to be a hoot! Join us at the Visitor Centre on Saturday where a Park Naturalist will guide you through a collection of animal skeletons. Mew Lake Campground will feature “pick of the patch” pumpkin carving\, spookiest campsite and best costume contests. Everyone is invited to participate in trick-or-treating among the campsites on Saturday night\, and later\, for a howling good time at the nearby Old Airfield with a wolf howl. We will be roasting creepy crawly spider wieners and ghostly marshmallows. \nEVENT SCHEDULE (Subject to Change) \nFriday\, October 27\, 2017\nTales from the Camboose Shanty\nTime: 7:00 p.m.\nLocation: Algonquin Logging Museum (km 54.5 of Highway 60). \nLoggers liked to tell stories around the fire in the camboose shanty. Find out about how scary life could be for these early loggers and hear a few tall tales too. \nCreepy Campfire\nTime: 9:00pm\nLocation: Mew Lake Campground Comfort Station \nSaturday\, October 28\, 2017\nSkeleton Tour – Explore the Algonquin Park specimen room with a Naturalist\, and see some of the skulls\, bones and specimens of some the Park’s wildlife.\nTime: 1:00 – 3:00pm\nLocation: Algonquin Park Visitor Centre (km 43 of Highway 60) \nHalloween Face Painting\nTime: 12:00-3:30pm\nLocation: Mew Lake Campground Comfort Station\nSmall cost per face painting  \nBest Costume Contest\nTime: 3:30-4:30pm\nLocation: Mew Lake Comfort Station \nTrick or Treating at Mew Lake and Lake of Two Rivers Campgrounds – Put on your best costume and trick-or-treat at Mew Lake and Lake of Two Rivers Campgrounds! Be sure to look for the Trick-or-Treaters ‘Welcome Sign’ on the campsite post before entering any site. Have fun and be ready for some tricks and treats.\nTime: 4:30-7:45pm\nLocation: Mew Lake Campground and Lake of Two Rivers Campground \nPumpkin Carving Contest\nCarve your best pumpkin and then leave your best pumpkins at your campsite post. Judging will take place starting at 5:00pm. Winners of the pumpkin carving contest will be announced at 8:00pm at the Wolf Howl\nTime: 5:00pm\nLocation: Mew Lake Campground and Lake of Two Rivers Campground \nSpookiest Campsite Contest – Decorate your campsite with your spookiest ideas. Winners of the spookiest campsite contest will be announced at 8:00pm at the Wolf Howl.\nTime: 5:00pm\nLocation: Mew Lake Campground and Lake of Two Rivers Campground \nWolf Howl – Join a Park Naturalist to discover more about Algonquin Park’s Eastern Wolves.\nTime: 8:00pm\nLocation: Mew Lake Campground Comfort Station \nCreepy Campfire – Join us at the comfort station at 9:30pm for spider weiners and marshmallows\nTime: 9:30pm\nLocation: Mew Lake Campground Comfort Station
URL:https://huntsvillelakeofbays.on.ca/events/haunted-halloween-weekend-algonquin-park/
LOCATION:Algonquin Provincial Park\, Ontario 60\, Nipissing\, Ontario\, K0J 2M0\, Canada
CATEGORIES:Tourism
ATTACH;FMTTYPE=image/jpeg:https://huntsvillelakeofbays.on.ca/wp-content/uploads/2017/08/Haunted-Halloween-Weekend-1.jpg
GEO:45.5088018;-78.2585811
X-APPLE-STRUCTURED-LOCATION;VALUE=URI;X-ADDRESS=Algonquin Provincial Park Ontario 60 Nipissing Ontario K0J 2M0 Canada;X-APPLE-RADIUS=500;X-TITLE=Ontario 60:geo:-78.2585811,45.5088018
END:VEVENT
BEGIN:VEVENT
DTSTART;VALUE=DATE:20170218
DTEND;VALUE=DATE:20170219
DTSTAMP:20260425T131813
CREATED:20170110T190219Z
LAST-MODIFIED:20181216T182322Z
UID:10000112-1487376000-1487462399@huntsvillelakeofbays.on.ca
SUMMARY:Winter in the Wild Festival
DESCRIPTION:This festival celebrates winter in Algonquin Park through indoor and outdoor events held at various locations throughout the Highway 60 Corridor of Algonquin Park!
URL:https://huntsvillelakeofbays.on.ca/events/winter-in-the-wild-festival/
LOCATION:Algonquin Provincial Park\, Ontario 60\, Nipissing\, Ontario\, K0J 2M0\, Canada
CATEGORIES:Tourism
GEO:45.5088018;-78.2585811
X-APPLE-STRUCTURED-LOCATION;VALUE=URI;X-ADDRESS=Algonquin Provincial Park Ontario 60 Nipissing Ontario K0J 2M0 Canada;X-APPLE-RADIUS=500;X-TITLE=Ontario 60:geo:-78.2585811,45.5088018
END:VEVENT
END:VCALENDAR