BEGIN:VCALENDAR
VERSION:2.0
PRODID:-//Huntsville &amp; Lake of Bays Chamber of Commerce - ECPv6.9.1//NONSGML v1.0//EN
CALSCALE:GREGORIAN
METHOD:PUBLISH
X-ORIGINAL-URL:https://huntsvillelakeofbays.on.ca
X-WR-CALDESC:Events for Huntsville &amp; Lake of Bays Chamber of Commerce
REFRESH-INTERVAL;VALUE=DURATION:PT1H
X-Robots-Tag:noindex
X-PUBLISHED-TTL:PT1H
BEGIN:VTIMEZONE
TZID:America/Toronto
BEGIN:DAYLIGHT
TZOFFSETFROM:-0500
TZOFFSETTO:-0400
TZNAME:EDT
DTSTART:20170312T070000
END:DAYLIGHT
BEGIN:STANDARD
TZOFFSETFROM:-0400
TZOFFSETTO:-0500
TZNAME:EST
DTSTART:20171105T060000
END:STANDARD
BEGIN:DAYLIGHT
TZOFFSETFROM:-0500
TZOFFSETTO:-0400
TZNAME:EDT
DTSTART:20180311T070000
END:DAYLIGHT
BEGIN:STANDARD
TZOFFSETFROM:-0400
TZOFFSETTO:-0500
TZNAME:EST
DTSTART:20181104T060000
END:STANDARD
BEGIN:DAYLIGHT
TZOFFSETFROM:-0500
TZOFFSETTO:-0400
TZNAME:EDT
DTSTART:20190310T070000
END:DAYLIGHT
BEGIN:STANDARD
TZOFFSETFROM:-0400
TZOFFSETTO:-0500
TZNAME:EST
DTSTART:20191103T060000
END:STANDARD
END:VTIMEZONE
BEGIN:VEVENT
DTSTART;TZID=America/Toronto:20190216T100000
DTEND;TZID=America/Toronto:20190216T200000
DTSTAMP:20260425T145928
CREATED:20180716T200615Z
LAST-MODIFIED:20190204T200704Z
UID:10000606-1550311200-1550347200@huntsvillelakeofbays.on.ca
SUMMARY:Winter in the Wild Festival
DESCRIPTION:Join us in Algonquin Park February 16th on Family Day Weekend for our 8th Annual Winter in the Wild Festival! \nThis is a family-friendly event with a wide variety of activities\, including snowshoeing\, winter bird walks\, ice-skating\, marshmallow roasting\, winter camping demonstrations and more! Activities take place at various locations throughout the Highway 60 Corridor of Algonquin Park including Mew Lake and the Algonquin Visitor Centre. \nAll of the activities during the Festival are free with the purchase of valid Park permit\, with the exception of food. For more information please visit our website at www.algonquinpark.on.ca.
URL:https://huntsvillelakeofbays.on.ca/events/winter-wild-festival-2/
LOCATION:Algonquin Provincial Park\, Ontario 60\, Nipissing\, Ontario\, K0J 2M0\, Canada
CATEGORIES:Cultural Events,Cultural Events,Events Calendar,Tourism
ATTACH;FMTTYPE=image/jpeg:https://huntsvillelakeofbays.on.ca/wp-content/uploads/2017/11/Winter-in-the-Wild.jpg
GEO:45.5088018;-78.2585811
X-APPLE-STRUCTURED-LOCATION;VALUE=URI;X-ADDRESS=Algonquin Provincial Park Ontario 60 Nipissing Ontario K0J 2M0 Canada;X-APPLE-RADIUS=500;X-TITLE=Ontario 60:geo:-78.2585811,45.5088018
END:VEVENT
BEGIN:VEVENT
DTSTART;VALUE=DATE:20180217
DTEND;VALUE=DATE:20180218
DTSTAMP:20260425T145928
CREATED:20171114T160752Z
LAST-MODIFIED:20181216T182548Z
UID:10000119-1518825600-1518911999@huntsvillelakeofbays.on.ca
SUMMARY:Winter in the Wild Festival
DESCRIPTION:  \nJoin us in Algonquin Park on February 17th on Family Day Weekend for our 7th Annual Winter in the Wild Festival. \nThis is a family-friendly event with a wide variety of activities\, including snowshoeing\, tracking\, winter bird walks\, ice-skating\, campfires with marshmallow roasting\, winter camping demonstrations and more! Activities take place at Mew Lake and the Algonquin Park Visitor Centre. \nAll of the activities during the Festival are free with the purchase of valid Park permit\, with the exception of food. For more information please visit our website at www.algonquinpark.on.ca.
URL:https://huntsvillelakeofbays.on.ca/events/winter-wild-festival/
LOCATION:Algonquin Provincial Park\, Ontario 60\, Nipissing\, Ontario\, K0J 2M0\, Canada
CATEGORIES:Tourism
ATTACH;FMTTYPE=image/jpeg:https://huntsvillelakeofbays.on.ca/wp-content/uploads/2017/11/Winter-in-the-Wild.jpg
GEO:45.5088018;-78.2585811
X-APPLE-STRUCTURED-LOCATION;VALUE=URI;X-ADDRESS=Algonquin Provincial Park Ontario 60 Nipissing Ontario K0J 2M0 Canada;X-APPLE-RADIUS=500;X-TITLE=Ontario 60:geo:-78.2585811,45.5088018
END:VEVENT
BEGIN:VEVENT
DTSTART;VALUE=DATE:20171027
DTEND;VALUE=DATE:20171029
DTSTAMP:20260425T145928
CREATED:20170825T152637Z
LAST-MODIFIED:20181216T182451Z
UID:10000234-1509062400-1509235199@huntsvillelakeofbays.on.ca
SUMMARY:Haunted Halloween Weekend in Algonquin Park
DESCRIPTION:The fun begins on Friday night with our owl prowl\, that is sure to be a hoot! Join us at the Visitor Centre on Saturday where a Park Naturalist will guide you through a collection of animal skeletons. Mew Lake Campground will feature “pick of the patch” pumpkin carving\, spookiest campsite and best costume contests. Everyone is invited to participate in trick-or-treating among the campsites on Saturday night\, and later\, for a howling good time at the nearby Old Airfield with a wolf howl. We will be roasting creepy crawly spider wieners and ghostly marshmallows. \nEVENT SCHEDULE (Subject to Change) \nFriday\, October 27\, 2017\nTales from the Camboose Shanty\nTime: 7:00 p.m.\nLocation: Algonquin Logging Museum (km 54.5 of Highway 60). \nLoggers liked to tell stories around the fire in the camboose shanty. Find out about how scary life could be for these early loggers and hear a few tall tales too. \nCreepy Campfire\nTime: 9:00pm\nLocation: Mew Lake Campground Comfort Station \nSaturday\, October 28\, 2017\nSkeleton Tour – Explore the Algonquin Park specimen room with a Naturalist\, and see some of the skulls\, bones and specimens of some the Park’s wildlife.\nTime: 1:00 – 3:00pm\nLocation: Algonquin Park Visitor Centre (km 43 of Highway 60) \nHalloween Face Painting\nTime: 12:00-3:30pm\nLocation: Mew Lake Campground Comfort Station\nSmall cost per face painting  \nBest Costume Contest\nTime: 3:30-4:30pm\nLocation: Mew Lake Comfort Station \nTrick or Treating at Mew Lake and Lake of Two Rivers Campgrounds – Put on your best costume and trick-or-treat at Mew Lake and Lake of Two Rivers Campgrounds! Be sure to look for the Trick-or-Treaters ‘Welcome Sign’ on the campsite post before entering any site. Have fun and be ready for some tricks and treats.\nTime: 4:30-7:45pm\nLocation: Mew Lake Campground and Lake of Two Rivers Campground \nPumpkin Carving Contest\nCarve your best pumpkin and then leave your best pumpkins at your campsite post. Judging will take place starting at 5:00pm. Winners of the pumpkin carving contest will be announced at 8:00pm at the Wolf Howl\nTime: 5:00pm\nLocation: Mew Lake Campground and Lake of Two Rivers Campground \nSpookiest Campsite Contest – Decorate your campsite with your spookiest ideas. Winners of the spookiest campsite contest will be announced at 8:00pm at the Wolf Howl.\nTime: 5:00pm\nLocation: Mew Lake Campground and Lake of Two Rivers Campground \nWolf Howl – Join a Park Naturalist to discover more about Algonquin Park’s Eastern Wolves.\nTime: 8:00pm\nLocation: Mew Lake Campground Comfort Station \nCreepy Campfire – Join us at the comfort station at 9:30pm for spider weiners and marshmallows\nTime: 9:30pm\nLocation: Mew Lake Campground Comfort Station
URL:https://huntsvillelakeofbays.on.ca/events/haunted-halloween-weekend-algonquin-park/
LOCATION:Algonquin Provincial Park\, Ontario 60\, Nipissing\, Ontario\, K0J 2M0\, Canada
CATEGORIES:Tourism
ATTACH;FMTTYPE=image/jpeg:https://huntsvillelakeofbays.on.ca/wp-content/uploads/2017/08/Haunted-Halloween-Weekend-1.jpg
GEO:45.5088018;-78.2585811
X-APPLE-STRUCTURED-LOCATION;VALUE=URI;X-ADDRESS=Algonquin Provincial Park Ontario 60 Nipissing Ontario K0J 2M0 Canada;X-APPLE-RADIUS=500;X-TITLE=Ontario 60:geo:-78.2585811,45.5088018
END:VEVENT
BEGIN:VEVENT
DTSTART;VALUE=DATE:20170218
DTEND;VALUE=DATE:20170219
DTSTAMP:20260425T145928
CREATED:20170110T190219Z
LAST-MODIFIED:20181216T182322Z
UID:10000112-1487376000-1487462399@huntsvillelakeofbays.on.ca
SUMMARY:Winter in the Wild Festival
DESCRIPTION:This festival celebrates winter in Algonquin Park through indoor and outdoor events held at various locations throughout the Highway 60 Corridor of Algonquin Park!
URL:https://huntsvillelakeofbays.on.ca/events/winter-in-the-wild-festival/
LOCATION:Algonquin Provincial Park\, Ontario 60\, Nipissing\, Ontario\, K0J 2M0\, Canada
CATEGORIES:Tourism
GEO:45.5088018;-78.2585811
X-APPLE-STRUCTURED-LOCATION;VALUE=URI;X-ADDRESS=Algonquin Provincial Park Ontario 60 Nipissing Ontario K0J 2M0 Canada;X-APPLE-RADIUS=500;X-TITLE=Ontario 60:geo:-78.2585811,45.5088018
END:VEVENT
END:VCALENDAR