BEGIN:VCALENDAR
VERSION:2.0
PRODID:-//Huntsville &amp; Lake of Bays Chamber of Commerce - ECPv6.9.1//NONSGML v1.0//EN
CALSCALE:GREGORIAN
METHOD:PUBLISH
X-WR-CALNAME:Huntsville &amp; Lake of Bays Chamber of Commerce
X-ORIGINAL-URL:https://huntsvillelakeofbays.on.ca
X-WR-CALDESC:Events for Huntsville &amp; Lake of Bays Chamber of Commerce
REFRESH-INTERVAL;VALUE=DURATION:PT1H
X-Robots-Tag:noindex
X-PUBLISHED-TTL:PT1H
BEGIN:VTIMEZONE
TZID:America/Toronto
BEGIN:DAYLIGHT
TZOFFSETFROM:-0500
TZOFFSETTO:-0400
TZNAME:EDT
DTSTART:20190310T070000
END:DAYLIGHT
BEGIN:STANDARD
TZOFFSETFROM:-0400
TZOFFSETTO:-0500
TZNAME:EST
DTSTART:20191103T060000
END:STANDARD
END:VTIMEZONE
BEGIN:VEVENT
DTSTART;TZID=America/Toronto:20190501T100000
DTEND;TZID=America/Toronto:20190501T120000
DTSTAMP:20260419T105517
CREATED:20190409T140203Z
LAST-MODIFIED:20190411T202651Z
UID:10001004-1556704800-1556712000@huntsvillelakeofbays.on.ca
SUMMARY:Unleash Your Inner Private Eye to Find Living Relatives
DESCRIPTION:Muskoka Parry Sound Geneology Group \nJoin us on: \nSaturday May 4th\, 2019 \n10am to 12Noon \nChurch of Jesus Christ of Latter Day Saints – 995 Cedar Lane\, Bracebridge \nFor information – Janine McIntyre \njanine@vianet.ca or 705-385-0057 \nFacebook – Muskoka Parry Sound Genealogy Group \nAnnual Membership $15\, Guests $5 \nAll are Welcome
URL:https://huntsvillelakeofbays.on.ca/events/unleash-inner-private-eye-find-living-relatives/
LOCATION:Church of Jesus Christ of Latter Day Saints\, 995 Cedar Lane\, Bracebridge\, Ontario\, Canada
CATEGORIES:Cultural Events,Cultural Events,Events Calendar,Tourism
ATTACH;FMTTYPE=image/jpeg:https://huntsvillelakeofbays.on.ca/wp-content/uploads/2019/04/muskoka-parry-sound-genealogy-group.jpg
ORGANIZER;CN="Muskoka Parry Sound Genealogy Group":MAILTO:janine@vianet.ca
GEO:45.0498697;-79.2949467
X-APPLE-STRUCTURED-LOCATION;VALUE=URI;X-ADDRESS=Church of Jesus Christ of Latter Day Saints 995 Cedar Lane Bracebridge Ontario Canada;X-APPLE-RADIUS=500;X-TITLE=995 Cedar Lane:geo:-79.2949467,45.0498697
END:VEVENT
END:VCALENDAR