BEGIN:VCALENDAR
VERSION:2.0
PRODID:-//Huntsville &amp; Lake of Bays Chamber of Commerce - ECPv6.9.1//NONSGML v1.0//EN
CALSCALE:GREGORIAN
METHOD:PUBLISH
X-ORIGINAL-URL:https://huntsvillelakeofbays.on.ca
X-WR-CALDESC:Events for Huntsville &amp; Lake of Bays Chamber of Commerce
REFRESH-INTERVAL;VALUE=DURATION:PT1H
X-Robots-Tag:noindex
X-PUBLISHED-TTL:PT1H
BEGIN:VTIMEZONE
TZID:America/Toronto
BEGIN:DAYLIGHT
TZOFFSETFROM:-0500
TZOFFSETTO:-0400
TZNAME:EDT
DTSTART:20220313T070000
END:DAYLIGHT
BEGIN:STANDARD
TZOFFSETFROM:-0400
TZOFFSETTO:-0500
TZNAME:EST
DTSTART:20221106T060000
END:STANDARD
END:VTIMEZONE
BEGIN:VEVENT
DTSTART;TZID=America/Toronto:20220821T100000
DTEND;TZID=America/Toronto:20220821T150000
DTSTAMP:20260423T152246
CREATED:20220815T194147Z
LAST-MODIFIED:20220815T194147Z
UID:10001764-1661076000-1661094000@huntsvillelakeofbays.on.ca
SUMMARY:Muskoka Family Farm Event
DESCRIPTION:Bring the family and come on out to Currie’s Corner Farm for the opportunity to take a farm tour\, see some animals and meet some local farmers. A bbq lunch will also be available! \n​Entry to the event is a donation to the food bank – all proceeds will be given to The Table Food Bank. \n​If you have any questions or would like more information\, please contact Steph Vanthof at stephanie.vanthof@ofa.on.ca or 705-622-6049
URL:https://huntsvillelakeofbays.on.ca/events/muskoka-family-farm-event/
LOCATION:Currie’s Corner Farm\, 116 Bethune Rd. N\, Huntsville\, Ontario\, P1H 2J2\, Canada
CATEGORIES:Cultural Events,Cultural Events,Events Calendar,Tourism
ATTACH;FMTTYPE=image/jpeg:https://huntsvillelakeofbays.on.ca/wp-content/uploads/2022/08/muskoka-family-farm-event.jpg
ORGANIZER;CN="Muskoka Federation of Agriculture":MAILTO:stephanie.vanthof@ofa.on.ca
GEO:45.3118501;-79.2829016
X-APPLE-STRUCTURED-LOCATION;VALUE=URI;X-ADDRESS=Currie’s Corner Farm 116 Bethune Rd. N Huntsville Ontario P1H 2J2 Canada;X-APPLE-RADIUS=500;X-TITLE=116 Bethune Rd. N:geo:-79.2829016,45.3118501
END:VEVENT
END:VCALENDAR