BEGIN:VCALENDAR
VERSION:2.0
PRODID:-//Huntsville &amp; Lake of Bays Chamber of Commerce - ECPv6.9.1//NONSGML v1.0//EN
CALSCALE:GREGORIAN
METHOD:PUBLISH
X-ORIGINAL-URL:https://huntsvillelakeofbays.on.ca
X-WR-CALDESC:Events for Huntsville &amp; Lake of Bays Chamber of Commerce
REFRESH-INTERVAL;VALUE=DURATION:PT1H
X-Robots-Tag:noindex
X-PUBLISHED-TTL:PT1H
BEGIN:VTIMEZONE
TZID:America/Toronto
BEGIN:DAYLIGHT
TZOFFSETFROM:-0500
TZOFFSETTO:-0400
TZNAME:EDT
DTSTART:20170312T070000
END:DAYLIGHT
BEGIN:STANDARD
TZOFFSETFROM:-0400
TZOFFSETTO:-0500
TZNAME:EST
DTSTART:20171105T060000
END:STANDARD
END:VTIMEZONE
BEGIN:VEVENT
DTSTART;TZID=America/Toronto:20171231T170000
DTEND;TZID=America/Toronto:20171231T200000
DTSTAMP:20260419T163030
CREATED:20170914T144207Z
LAST-MODIFIED:20181216T182527Z
UID:10000269-1514739600-1514750400@huntsvillelakeofbays.on.ca
SUMMARY:New Year's Eve Fireworks
DESCRIPTION:Join us for family-friendly New Year’s Eve fireworks. Enjoy live music from 5:00-8:00 pm with fireworks at 6:00 pm. Free cookies and hot chocolate starting at 5:00. Bar closes at 8:00 pm.
URL:https://huntsvillelakeofbays.on.ca/events/new-years-eve-fireworks/
LOCATION:Hidden Valley Highlands Ski Area\, 1655 Hidden Valley Road\, Huntsville\, Ontario\, P1H 1A4\, Canada
CATEGORIES:Tourism
ATTACH;FMTTYPE=image/jpeg:https://huntsvillelakeofbays.on.ca/wp-content/uploads/2017/09/Fireworks.jpg
GEO:45.3562058;-79.129688
X-APPLE-STRUCTURED-LOCATION;VALUE=URI;X-ADDRESS=Hidden Valley Highlands Ski Area 1655 Hidden Valley Road Huntsville Ontario P1H 1A4 Canada;X-APPLE-RADIUS=500;X-TITLE=1655 Hidden Valley Road:geo:-79.129688,45.3562058
END:VEVENT
BEGIN:VEVENT
DTSTART;TZID=America/Toronto:20171224T170000
DTEND;TZID=America/Toronto:20171224T190000
DTSTAMP:20260419T163030
CREATED:20170914T143458Z
LAST-MODIFIED:20181216T182526Z
UID:10000267-1514134800-1514142000@huntsvillelakeofbays.on.ca
SUMMARY:Christmas Eve Torchlight Parade
DESCRIPTION:An annual family-friendly favourite\, the Christmas Eve Torchlight Parade can be viewed from the Chalet or the base of the Flying Dutchman. Watch Snow School instructors and Ski Patrolers descend the Flying Dutchman carrying brightly lit torches in a beautiful procession of lights. Santa even joins in the Parade (you didn’t know he could ski\, did you?). Join us for hot chocolate and cookies in the Chalet from 5:00 – 6:00 p.m. The Parade begins at 6:00 p.m. sharp. Tobin Spring will be playing playing acoustic guitar from 5:30 – 6:30 p.m.  \n*Please Note: There are no Night Operations on Christmas Eve.
URL:https://huntsvillelakeofbays.on.ca/events/christmas-eve-torchlight-parade/
LOCATION:Hidden Valley Highlands Ski Area\, 1655 Hidden Valley Road\, Huntsville\, Ontario\, P1H 1A4\, Canada
CATEGORIES:Tourism
ATTACH;FMTTYPE=image/jpeg:https://huntsvillelakeofbays.on.ca/wp-content/uploads/2017/09/Torchlight-Parade.jpg
GEO:45.3562058;-79.129688
X-APPLE-STRUCTURED-LOCATION;VALUE=URI;X-ADDRESS=Hidden Valley Highlands Ski Area 1655 Hidden Valley Road Huntsville Ontario P1H 1A4 Canada;X-APPLE-RADIUS=500;X-TITLE=1655 Hidden Valley Road:geo:-79.129688,45.3562058
END:VEVENT
END:VCALENDAR