BEGIN:VCALENDAR
VERSION:2.0
PRODID:-//Huntsville &amp; Lake of Bays Chamber of Commerce - ECPv6.9.1//NONSGML v1.0//EN
CALSCALE:GREGORIAN
METHOD:PUBLISH
X-WR-CALNAME:Huntsville &amp; Lake of Bays Chamber of Commerce
X-ORIGINAL-URL:https://huntsvillelakeofbays.on.ca
X-WR-CALDESC:Events for Huntsville &amp; Lake of Bays Chamber of Commerce
REFRESH-INTERVAL;VALUE=DURATION:PT1H
X-Robots-Tag:noindex
X-PUBLISHED-TTL:PT1H
BEGIN:VTIMEZONE
TZID:America/Toronto
BEGIN:DAYLIGHT
TZOFFSETFROM:-0500
TZOFFSETTO:-0400
TZNAME:EDT
DTSTART:20190310T070000
END:DAYLIGHT
BEGIN:STANDARD
TZOFFSETFROM:-0400
TZOFFSETTO:-0500
TZNAME:EST
DTSTART:20191103T060000
END:STANDARD
END:VTIMEZONE
BEGIN:VEVENT
DTSTART;VALUE=DATE:20190413
DTEND;VALUE=DATE:20190414
DTSTAMP:20260419T220917
CREATED:20181217T201201Z
LAST-MODIFIED:20181217T201201Z
UID:10000634-1555113600-1555199999@huntsvillelakeofbays.on.ca
SUMMARY:Purple Tea Party and Silent Auction
DESCRIPTION:The Purple Tea and Silent Auction kicks off our annual Hike for Hospice Huntsville Fundraiser. \nThe tea and auction is held at Huntsville Place Mall on Saturday April 13\, 2019.
URL:https://huntsvillelakeofbays.on.ca/events/purple-tea-party-silent-auction/
LOCATION:Huntsville Place Mall\, 70 King William Street\, Huntsville\, ON\, P1H 2A5\, Canada
CATEGORIES:Cultural Events,Events Calendar
ATTACH;FMTTYPE=image/jpeg:https://huntsvillelakeofbays.on.ca/wp-content/uploads/2018/12/Hospice.jpg
ORGANIZER;CN="Hospice Huntsville":MAILTO:hospiceh@vianet.ca
GEO:45.3350862;-79.2074016
X-APPLE-STRUCTURED-LOCATION;VALUE=URI;X-ADDRESS=Huntsville Place Mall 70 King William Street Huntsville ON P1H 2A5 Canada;X-APPLE-RADIUS=500;X-TITLE=70 King William Street:geo:-79.2074016,45.3350862
END:VEVENT
END:VCALENDAR