BEGIN:VCALENDAR
VERSION:2.0
PRODID:-//Huntsville &amp; Lake of Bays Chamber of Commerce - ECPv6.9.1//NONSGML v1.0//EN
CALSCALE:GREGORIAN
METHOD:PUBLISH
X-ORIGINAL-URL:https://huntsvillelakeofbays.on.ca
X-WR-CALDESC:Events for Huntsville &amp; Lake of Bays Chamber of Commerce
REFRESH-INTERVAL;VALUE=DURATION:PT1H
X-Robots-Tag:noindex
X-PUBLISHED-TTL:PT1H
BEGIN:VTIMEZONE
TZID:America/Toronto
BEGIN:DAYLIGHT
TZOFFSETFROM:-0500
TZOFFSETTO:-0400
TZNAME:EDT
DTSTART:20220313T070000
END:DAYLIGHT
BEGIN:STANDARD
TZOFFSETFROM:-0400
TZOFFSETTO:-0500
TZNAME:EST
DTSTART:20221106T060000
END:STANDARD
END:VTIMEZONE
BEGIN:VEVENT
DTSTART;TZID=America/Toronto:20221204T093000
DTEND;TZID=America/Toronto:20221204T110000
DTSTAMP:20260422T022502
CREATED:20221128T182944Z
LAST-MODIFIED:20221128T182944Z
UID:10001879-1670146200-1670151600@huntsvillelakeofbays.on.ca
SUMMARY:Sensitive Santa
DESCRIPTION:A sensory-friendly environment for children who struggle with noise\, waiting or other sensory issues\, to talk with Santa. Free. Hosted by Community Living Huntsville\, Downtown Huntsville BIA and Minds Alive. Please reserve your spot in advance by contacting: Stacey.Bullock@clhuntsville.ca or 705-789-4543.
URL:https://huntsvillelakeofbays.on.ca/events/sensitive-santa/
LOCATION:Minds Alive Toy Store\, 19 Main St E Unit 2 & 3\, Huntsville\, Ontario\, P1H 2C6\, Canada
CATEGORIES:Cultural Events,Cultural Events,Events Calendar,Tourism
ATTACH;FMTTYPE=image/png:https://huntsvillelakeofbays.on.ca/wp-content/uploads/2022/11/9e7a070b-8803-4e2a-9927-af560114492d.png
ORGANIZER;CN="Community Living":MAILTO:Jennifer.Jerrett@clhuntsville.ca
GEO:45.326008;-79.219121
X-APPLE-STRUCTURED-LOCATION;VALUE=URI;X-ADDRESS=Minds Alive Toy Store 19 Main St E Unit 2 & 3 Huntsville Ontario P1H 2C6 Canada;X-APPLE-RADIUS=500;X-TITLE=19 Main St E Unit 2 & 3:geo:-79.219121,45.326008
END:VEVENT
END:VCALENDAR