BEGIN:VCALENDAR
VERSION:2.0
PRODID:-//Huntsville &amp; Lake of Bays Chamber of Commerce - ECPv6.9.1//NONSGML v1.0//EN
CALSCALE:GREGORIAN
METHOD:PUBLISH
X-ORIGINAL-URL:https://huntsvillelakeofbays.on.ca
X-WR-CALDESC:Events for Huntsville &amp; Lake of Bays Chamber of Commerce
REFRESH-INTERVAL;VALUE=DURATION:PT1H
X-Robots-Tag:noindex
X-PUBLISHED-TTL:PT1H
BEGIN:VTIMEZONE
TZID:America/Toronto
BEGIN:DAYLIGHT
TZOFFSETFROM:-0500
TZOFFSETTO:-0400
TZNAME:EDT
DTSTART:20230312T070000
END:DAYLIGHT
BEGIN:STANDARD
TZOFFSETFROM:-0400
TZOFFSETTO:-0500
TZNAME:EST
DTSTART:20231105T060000
END:STANDARD
END:VTIMEZONE
BEGIN:VEVENT
DTSTART;TZID=America/Toronto:20231116T160000
DTEND;TZID=America/Toronto:20231116T190000
DTSTAMP:20260425T133759
CREATED:20231101T152058Z
LAST-MODIFIED:20231101T152557Z
UID:10001903-1700150400-1700161200@huntsvillelakeofbays.on.ca
SUMMARY:Ladies Night - Wish List
DESCRIPTION:Ladies Night – Wish List \nGrab your girlfriends and drop by our annual LADIES NIGHT.  Create your wish list\, and receive 20% off any item on your wish list purchased in December. \nAn evening full of fun\, gift bags\, refreshments and register to win a Sterling Silver Diamond necklace. \nRSVP to info@thehunthouse.ca \n 
URL:https://huntsvillelakeofbays.on.ca/events/ladies-night-wish-list/
LOCATION:The Hunt House\, 110 North Kinton Ave\, Huntsville\, Ontario\, P1H0A9\, Canada
CATEGORIES:Chamber Membership,Cultural Events,Events Calendar
GEO:45.3420132;-79.2275515
X-APPLE-STRUCTURED-LOCATION;VALUE=URI;X-ADDRESS=The Hunt House 110 North Kinton Ave Huntsville Ontario P1H0A9 Canada;X-APPLE-RADIUS=500;X-TITLE=110 North Kinton Ave:geo:-79.2275515,45.3420132
END:VEVENT
END:VCALENDAR