BEGIN:VCALENDAR
VERSION:2.0
PRODID:-//Huntsville &amp; Lake of Bays Chamber of Commerce - ECPv6.9.1//NONSGML v1.0//EN
CALSCALE:GREGORIAN
METHOD:PUBLISH
X-ORIGINAL-URL:https://huntsvillelakeofbays.on.ca
X-WR-CALDESC:Events for Huntsville &amp; Lake of Bays Chamber of Commerce
REFRESH-INTERVAL;VALUE=DURATION:PT1H
X-Robots-Tag:noindex
X-PUBLISHED-TTL:PT1H
BEGIN:VTIMEZONE
TZID:America/Toronto
BEGIN:DAYLIGHT
TZOFFSETFROM:-0500
TZOFFSETTO:-0400
TZNAME:EDT
DTSTART:20220313T070000
END:DAYLIGHT
BEGIN:STANDARD
TZOFFSETFROM:-0400
TZOFFSETTO:-0500
TZNAME:EST
DTSTART:20221106T060000
END:STANDARD
END:VTIMEZONE
BEGIN:VEVENT
DTSTART;TZID=America/Toronto:20221031T180000
DTEND;TZID=America/Toronto:20221031T210000
DTSTAMP:20260422T041658
CREATED:20221017T185800Z
LAST-MODIFIED:20221017T185800Z
UID:10001828-1667239200-1667250000@huntsvillelakeofbays.on.ca
SUMMARY:Haunting on Williamsport
DESCRIPTION:Admission- Cash donation or nonperishable food items to be donated to the local food bank.\n\nLET’S GET SPOOKY!\nIt’s no secret Halloween is our favorite holiday! Family Friendly!\n\nJoin us on October 29\, 30\, & 31st from 6pm-9pm\nOutdoor Haunted trail with Games\, Treats & Hot Chocolate!
URL:https://huntsvillelakeofbays.on.ca/events/haunting-on-williamsport/2022-10-31/
LOCATION:Williamsport\, williamsport rd\, Huntsville\, Ontario\, Canada
CATEGORIES:Cultural Events,Cultural Events,Events Calendar,Tourism
ATTACH;FMTTYPE=image/jpeg:https://huntsvillelakeofbays.on.ca/wp-content/uploads/2017/08/Haunted-Halloween-Weekend-1.jpg
ORGANIZER;CN="Just Craftin' Around Muskoka":MAILTO:justcraftinaroundmuskoka@gmail.com
GEO:45.3809657;-79.1739979
X-APPLE-STRUCTURED-LOCATION;VALUE=URI;X-ADDRESS=Williamsport williamsport rd Huntsville Ontario Canada;X-APPLE-RADIUS=500;X-TITLE=williamsport rd:geo:-79.1739979,45.3809657
END:VEVENT
BEGIN:VEVENT
DTSTART;TZID=America/Toronto:20221030T180000
DTEND;TZID=America/Toronto:20221030T210000
DTSTAMP:20260422T041658
CREATED:20221017T185800Z
LAST-MODIFIED:20221017T185800Z
UID:10001827-1667152800-1667163600@huntsvillelakeofbays.on.ca
SUMMARY:Haunting on Williamsport
DESCRIPTION:Admission- Cash donation or nonperishable food items to be donated to the local food bank.\n\nLET’S GET SPOOKY!\nIt’s no secret Halloween is our favorite holiday! Family Friendly!\n\nJoin us on October 29\, 30\, & 31st from 6pm-9pm\nOutdoor Haunted trail with Games\, Treats & Hot Chocolate!
URL:https://huntsvillelakeofbays.on.ca/events/haunting-on-williamsport/2022-10-30/
LOCATION:Williamsport\, williamsport rd\, Huntsville\, Ontario\, Canada
CATEGORIES:Cultural Events,Cultural Events,Events Calendar,Tourism
ATTACH;FMTTYPE=image/jpeg:https://huntsvillelakeofbays.on.ca/wp-content/uploads/2017/08/Haunted-Halloween-Weekend-1.jpg
ORGANIZER;CN="Just Craftin' Around Muskoka":MAILTO:justcraftinaroundmuskoka@gmail.com
GEO:45.3809657;-79.1739979
X-APPLE-STRUCTURED-LOCATION;VALUE=URI;X-ADDRESS=Williamsport williamsport rd Huntsville Ontario Canada;X-APPLE-RADIUS=500;X-TITLE=williamsport rd:geo:-79.1739979,45.3809657
END:VEVENT
BEGIN:VEVENT
DTSTART;TZID=America/Toronto:20221029T180000
DTEND;TZID=America/Toronto:20221029T210000
DTSTAMP:20260422T041658
CREATED:20221017T185800Z
LAST-MODIFIED:20221017T185800Z
UID:10001826-1667066400-1667077200@huntsvillelakeofbays.on.ca
SUMMARY:Haunting on Williamsport
DESCRIPTION:Admission- Cash donation or nonperishable food items to be donated to the local food bank.\n\nLET’S GET SPOOKY!\nIt’s no secret Halloween is our favorite holiday! Family Friendly!\n\nJoin us on October 29\, 30\, & 31st from 6pm-9pm\nOutdoor Haunted trail with Games\, Treats & Hot Chocolate!
URL:https://huntsvillelakeofbays.on.ca/events/haunting-on-williamsport/2022-10-29/
LOCATION:Williamsport\, williamsport rd\, Huntsville\, Ontario\, Canada
CATEGORIES:Cultural Events,Cultural Events,Events Calendar,Tourism
ATTACH;FMTTYPE=image/jpeg:https://huntsvillelakeofbays.on.ca/wp-content/uploads/2017/08/Haunted-Halloween-Weekend-1.jpg
ORGANIZER;CN="Just Craftin' Around Muskoka":MAILTO:justcraftinaroundmuskoka@gmail.com
GEO:45.3809657;-79.1739979
X-APPLE-STRUCTURED-LOCATION;VALUE=URI;X-ADDRESS=Williamsport williamsport rd Huntsville Ontario Canada;X-APPLE-RADIUS=500;X-TITLE=williamsport rd:geo:-79.1739979,45.3809657
END:VEVENT
END:VCALENDAR